BEGIN:VCALENDAR
VERSION:2.0
PRODID:-//Drupal: Date iCal//NONSGML kigkonsult.se iCalcreator 2.16.12//
METHOD:PUBLISH
X-WR-CALNAME;VALUE=TEXT:Ical
BEGIN:VTIMEZONE
TZID:America/New_York
BEGIN:STANDARD
DTSTART:20171105T020000
TZOFFSETFROM:-0400
TZOFFSETTO:-0500
TZNAME:EST
END:STANDARD
BEGIN:DAYLIGHT
DTSTART:20170312T020000
TZOFFSETFROM:-0500
TZOFFSETTO:-0400
RDATE:20180311T020000
TZNAME:EDT
END:DAYLIGHT
END:VTIMEZONE
BEGIN:VEVENT
UID:calendar.989896.field_date.0@carrcenter.hks.harvard.edu
DTSTAMP:20210301T011224Z
DESCRIPTION:'Building Peace in a Turbulent World' with Nancy Lindborg\, Pre
 sident of the United States Institute of PeaceHosted by the Harvard Humani
 tarian Initiative and co-sponsored by the Women and Public Policy Program\
 , the Future of Diplomacy Project\, and the Carr Center for Human Rights P
 olicy.Lunch will be served.Nancy Lindborg has served since February\, 2015
 \, as President of the United States Institute of Peace\, an independent i
 nstitution founded by Congress to provide practical solutions for preventi
 ng and resolving violent conflict around the world.Ms. Lindborg has spent 
 most of her career working in fragile and conflict affected regions around
  the world. Prior to joining USIP\, she served as the assistant administra
 tor for the Bureau for Democracy\, Conflict and Humanitarian Assistance (D
 CHA) at USAID. From 2010 through early 2015\, Ms. Lindborg led USAID teams
  focused on building resilience and democracy\, managing and mitigating co
 nflict and providing urgent humanitarian assistance. Ms. Lindborg led DCHA
  teams in response to the ongoing Syria Crisis\, the droughts in Sahel and
  Horn of Africa\, the Arab Spring\, the Ebola response and numerous other 
 global crises.Prior to joining USAID\, Ms. Lindborg was president of Mercy
  Corps\, where she spent 14 years helping to grow the organization into a 
 globally respected organization known for innovative programs in the most 
 challenging environments. She started her international career working ove
 rseas in Kazakhstan and Nepal.Ms. Lindborg has held a number of leadership
  and board positions including serving as co-president of the Board of Dir
 ectors for the U.S. Global Leadership Coalition\; co-founder and board mem
 ber of the National Committee on North Korea\; and chair of the Sphere Man
 agement Committee. She is a member of Council on Foreign Relations.She hol
 ds a B.A and M.A. in English Literature from Stanford University and an M.
 A. in Public Administration from the John F. Kennedy School of Government 
 at Harvard University.
DTSTART;TZID=America/New_York:20170407T123000
DTEND;TZID=America/New_York:20170407T133000
LAST-MODIFIED:20200211T173142Z
LOCATION:WAPPP Cason Seminar Room\, Taubman\, 102
SUMMARY:Building Peace in a Turbulent World
URL;TYPE=URI:https://carrcenter.hks.harvard.edu/event/building-peace-turbul
 ent-world
END:VEVENT
END:VCALENDAR
