BEGIN:VCALENDAR
VERSION:2.0
PRODID:-//Drupal: Date iCal//NONSGML kigkonsult.se iCalcreator 2.16.12//
METHOD:PUBLISH
X-WR-CALNAME;VALUE=TEXT:Ical
BEGIN:VTIMEZONE
TZID:America/New_York
BEGIN:STANDARD
DTSTART:20171105T020000
TZOFFSETFROM:-0400
TZOFFSETTO:-0500
TZNAME:EST
END:STANDARD
BEGIN:DAYLIGHT
DTSTART:20170312T020000
TZOFFSETFROM:-0500
TZOFFSETTO:-0400
RDATE:20180311T020000
TZNAME:EDT
END:DAYLIGHT
END:VTIMEZONE
BEGIN:VEVENT
UID:calendar.989006.field_date.0@carrcenter.hks.harvard.edu
DTSTAMP:20210301T011220Z
DESCRIPTION:&nbsp\;The film chronicles the battle that several American mot
 hers are waging on behalf of their middle-school daughters\, victims of se
 x trafficking on Backpage.com\, the adult classifieds section that for yea
 rs was part of the iconic&nbsp\;Village Voice. The film features interview
 s with Demand Abolition chair and founder&nbsp\;Ambassador Swanee Hunt\, e
 lected leaders\, and our abolitionist partners across the country.Register
  here.Ambassador Hunt will be joined by regional activists in the fight ag
 ainst sex trafficking:Kay Khan\, Massachusetts State Representative (D-New
 ton)Mary Mazzio\, FilmmakerDonna Gavin\, Boston Police Department Lieutena
 nt DetectiveCherie Jimenez\, EVA Center founder and survivor leaderSiddhar
 th Kara\, Director of the Program on Human Trafficking and Modern Slavery 
 at the Harvard Kennedy School of GovernmentThis screening and dialogue con
 nect distinguished members of the Boston anti-trafficking community with s
 tudent groups and motivated residents who care about this issue\, which ha
 rms the most vulnerable people in our community.Light refreshments served.
 Press about the film:“The real heroes are the Jane Does who are courageous
 ly pursuing this\, and who motivate us. It’s not just happening in the Phi
 lippines. It’s happening here.” – Tad Friend\, The New Yorker“Too often do
 cumentaries that take on the darkest topics are demoralizing at best and e
 xploitative at worst. Without skirting the issue\, the Jessica Chastain-na
 rrated I AM JANE DOE (now playing in select cities) upends the familiar na
 rrative surrounding child sex trafficking to become a gripping legal thril
 ler.” – Esquire Magazine“Federal judges were interpreting a law to basical
 ly say it’s legal to host advertisements for children? This is the United 
 States of America! What the F?…” – Julia Felsenthal\, Vogue Magazine&nbsp\
 ;
DTSTART;TZID=America/New_York:20170406T170000
DTEND;TZID=America/New_York:20170406T203000
LAST-MODIFIED:20200211T173206Z
LOCATION:Harvard Law School\, 1563 Massachusetts Avenue\, Pound Hall\, Rm. 
 102
SUMMARY:I Am Jane Doe Screening & Panel Discussion (Led by Demand Abolition
 )
URL;TYPE=URI:https://carrcenter.hks.harvard.edu/event/i-am-jane-doe-screeni
 ng-panel-discussion-led-demand-abolition
END:VEVENT
END:VCALENDAR
