BEGIN:VCALENDAR
VERSION:2.0
PRODID:-//Drupal: Date iCal//NONSGML kigkonsult.se iCalcreator 2.16.12//
METHOD:PUBLISH
X-WR-CALNAME;VALUE=TEXT:Ical
BEGIN:VTIMEZONE
TZID:America/New_York
BEGIN:STANDARD
DTSTART:20171105T020000
TZOFFSETFROM:-0400
TZOFFSETTO:-0500
TZNAME:EST
END:STANDARD
BEGIN:DAYLIGHT
DTSTART:20180311T020000
TZOFFSETFROM:-0500
TZOFFSETTO:-0400
TZNAME:EDT
END:DAYLIGHT
END:VTIMEZONE
BEGIN:VEVENT
UID:calendar.988706.field_date.0@carrcenter.hks.harvard.edu
DTSTAMP:20210301T011221Z
DESCRIPTION:About the seminar:Professor Robert Wilkinson will be discussing
  'Tensions at the Intersection of Development Aid and Human Rights.'&nbsp\
 ;Lunch will be served.About the speaker:&nbsp\;Robert Wilkinson&nbsp\;is a
  negotiation specialist\, who helps organizations deal with negotiation\, 
 leadership and management challenges.&nbsp\; He is on the faculty at both 
 the Fletcher School of Law and Diplomacy at Tufts University\, and the Ken
 nedy School of Government at Harvard University.&nbsp\;Rob has successfull
 y supported numerous Fortune 500 companies\, major government agencies\,&n
 bsp\;international organizations\, and charities\,&nbsp\;helping them to b
 uild&nbsp\;their negotiation and leadership skills\, and to increase their
  overall&nbsp\;effectiveness. He has over 20 years of experience\, in more
  than 40 countries\, across the public\, private and not-profit sectors.Co
 rporate clients include&nbsp\;companies such as General Mills\, Chevron\, 
 IBM\, Merck\, Fidelity\, Philips\, Johnson &amp\; Johnson&nbsp\;and&nbsp\;
 Deloitte.Non-profit and public se?ctor&nbsp\;clients include&nbsp\;the Uni
 ted Nations\,&nbsp\;World Bank\, Intern?ational Monetary Fund (IMF)\,&nbsp
 \;World Wildlife Fund\, Planet Aid\, the National Urban League\,&nbsp\;US 
 Office of Personnel Management (OPM)&nbsp\;and the White House.?Rob&nbsp\;
 earned his Masters of Science (MS) from Stanford University\, and Bachelor
 s of Science (BS) from the Massachusetts Institute of Technology (MIT).&nb
 sp\;
DTSTART;TZID=America/New_York:20170413T120000
DTEND;TZID=America/New_York:20170413T133000
LAST-MODIFIED:20200211T173228Z
LOCATION:Carr Conference Room\, Rubenstein 219\, 79 JFK St\, Cambridge MA 0
 2138
SUMMARY:Lunch seminar: Tensions at the Intersection of Development Aid and 
 Human Rights
URL;TYPE=URI:https://carrcenter.hks.harvard.edu/event/lunch-seminar-tension
 s-intersection-development-aid-and-human-rights
END:VEVENT
END:VCALENDAR
