BEGIN:VCALENDAR
VERSION:2.0
PRODID:-//Drupal: Date iCal//NONSGML kigkonsult.se iCalcreator 2.16.12//
METHOD:PUBLISH
X-WR-CALNAME;VALUE=TEXT:Ical
BEGIN:VTIMEZONE
TZID:America/New_York
BEGIN:STANDARD
DTSTART:20171105T020000
TZOFFSETFROM:-0400
TZOFFSETTO:-0500
TZNAME:EST
END:STANDARD
BEGIN:DAYLIGHT
DTSTART:20170312T020000
TZOFFSETFROM:-0500
TZOFFSETTO:-0400
RDATE:20180311T020000
TZNAME:EDT
END:DAYLIGHT
END:VTIMEZONE
BEGIN:VEVENT
UID:calendar.988676.field_date.0@carrcenter.hks.harvard.edu
DTSTAMP:20210301T011217Z
DESCRIPTION:Jieun Baek is a doctoral candidate in Public Policy at the Univ
 ersity of Oxford\, and authored North Korea’s Hidden Revolution: How the I
 nformation Underground is Transforming a Closed Society (Yale University P
 ress\, 2016). At this talk\, Jieun will discuss her recently published boo
 k and further discuss how students can think about and act on their intere
 st in improving human rights in North Korea.&nbsp\;Previously\, Baek was a
  research fellow at the Belfer Center for Science and International Affair
 s at Harvard University. Baek worked at Google\, where\, among other roles
 \, she served as Google Ideas’ North Korea expert.&nbsp\;Baek received her
  bachelor’s in Government and master’s degrees in Public Policy from Harva
 rd. Her hometown is Los Angeles\, California. Visit her at www.JieunBaek.c
 om and follow her on Facebook and Twitter.*Lunch Provided*About the Book:T
 he story of North Korea's information underground and how it inspires peop
 le to seek better lives beyond their country’s bordersOne of the least und
 erstood countries in the world\, North Korea has long been known for its r
 epressive regime. Yet it is far from being an impenetrable black box. Medi
 a flows covertly into the country\, and fault lines are appearing in the g
 overnment’s sealed informational borders. Drawing on deeply personal inter
 views with North Korean defectors from all walks of life\, ranging from pr
 opaganda artists to diplomats\, Jieun Baek tells the story of North Korea’
 s information underground—the network of citizens who take extraordinary r
 isks by circulating illicit content such as foreign films\, television sho
 ws\, soap operas\, books\, and encyclopedias. By fostering an awareness of
  life outside North Korea and enhancing cultural knowledge\, the materials
  these citizens disseminate are affecting the social and political conscio
 usness of a people\, as well as their everyday lives.&nbsp\;&nbsp\;
DTSTART;TZID=America/New_York:20170404T120000
DTEND;TZID=America/New_York:20170404T133000
LAST-MODIFIED:20200211T173206Z
LOCATION:Carr Conference Room\, Rubenstein 219\, 79 JFK St\, Cambridge MA 0
 2138
SUMMARY:Lunch talk with Jieun Baek: North Korea's Hidden Revolution
URL;TYPE=URI:https://carrcenter.hks.harvard.edu/event/lunch-talk-jieun-baek
 -north-koreas-hidden-revolution
END:VEVENT
END:VCALENDAR
