BEGIN:VCALENDAR
VERSION:2.0
PRODID:-//Drupal: Date iCal//NONSGML kigkonsult.se iCalcreator 2.16.12//
METHOD:PUBLISH
X-WR-CALNAME;VALUE=TEXT:Ical
BEGIN:VTIMEZONE
TZID:America/New_York
BEGIN:STANDARD
DTSTART:20171105T020000
TZOFFSETFROM:-0400
TZOFFSETTO:-0500
TZNAME:EST
END:STANDARD
BEGIN:DAYLIGHT
DTSTART:20170312T020000
TZOFFSETFROM:-0500
TZOFFSETTO:-0400
RDATE:20180311T020000
TZNAME:EDT
END:DAYLIGHT
END:VTIMEZONE
BEGIN:VEVENT
UID:calendar.981976.field_date.0@carrcenter.hks.harvard.edu
DTSTAMP:20210301T011539Z
DESCRIPTION:&nbsp\;The Rwandan Student Community at Harvard University toge
 ther with the Carr Center For Human Rights Policy\, the Center for African
  Studies and the HKS Africa Caucus&nbsp\;invite you to the 23rd commemorat
 ion of the Genocide against the Tutsi.This commemoration event will featur
 e a seminar discussion on crimes of genocide and how the global community 
 can work together to prevent such atrocities&nbsp\;from happening in other
  countries.&nbsp\;&nbsp\;PANELISTS:Mr. El Ghassim Wane - UN Assistant Secr
 etary-General for Peacekeeping OperationsMr. Michael Fairbanks - Co- Found
 er Sliver Creek Medicines\, San Francisco &amp\; Member of the President’s
  Advisory Council in RwandaDr\, Timothy McCarthy -&nbsp\;Carr Center for H
 uman RightsMs. Belise Rutagengwa - Survivor of&nbsp\;Rwandan Genocide &amp
 \; student at Tufts UniversityMs. Swanee Hunt - Eleanor Roosevelt Lecturer
  in Public Policy at Harvard Kennedy SchoolPLEASE RSVP HERE.This event is 
 free &amp\; open to the public. Admittance will be on a first come–first s
 erved basis.
DTSTART;TZID=America/New_York:20170407T163000
DTEND;TZID=America/New_York:20170407T180000
LAST-MODIFIED:20200211T173142Z
LOCATION:B-400 LAND LECTURE HALL
SUMMARY:Remembering the Victims of 1994 Genocide against the Tutsi: A Panel
  Discussion
URL;TYPE=URI:https://carrcenter.hks.harvard.edu/event/remembering-victims-1
 994-genocide-rwanda-panel-discussion
END:VEVENT
END:VCALENDAR
