BEGIN:VCALENDAR
VERSION:2.0
PRODID:-//Drupal: Date iCal//NONSGML kigkonsult.se iCalcreator 2.16.12//
METHOD:PUBLISH
X-WR-CALNAME;VALUE=TEXT:Ical
BEGIN:VTIMEZONE
TZID:America/New_York
BEGIN:STANDARD
DTSTART:20171105T020000
TZOFFSETFROM:-0400
TZOFFSETTO:-0500
TZNAME:EST
END:STANDARD
BEGIN:DAYLIGHT
DTSTART:20180311T020000
TZOFFSETFROM:-0500
TZOFFSETTO:-0400
TZNAME:EDT
END:DAYLIGHT
END:VTIMEZONE
BEGIN:VEVENT
UID:calendar.981946.field_date.0@carrcenter.hks.harvard.edu
DTSTAMP:20210301T011539Z
DESCRIPTION:RSVP HEREThe View from the Military Academies:A Conversation wi
 th the Superintendents About Values\, Ethics\, &amp\; the Military Profess
 ion&nbsp\;Welcoming remarks by Harvard President Drew Faust.Speakers:LGEN 
 Michelle Johnson (USAFA)LGEN Robert Caslen (USMA)VADM Ted Carter (USNA)Mod
 erator:&nbsp\;Carr Center Senior Fellow Alberto Mora LGEN Michelle D. John
 son is Superintendent\, U.S. Air Force Academy\, Colorado Springs\, Colora
 do. LGEN Johnson is a command pilot with more than 3\,600 flying hours and
 \, among her many postings and commands\, has served as Air Force Aide to 
 the President of the United States. A distinguished graduate of the U.S. A
 ir Force Academy in 1981\, General Johnson completed graduate studies as a
  Rhodes Scholar before earning her pilot wings in 1984.&nbsp\;&nbsp\;LGEN&
 nbsp\;Robert L. Caslen\, Jr. became the 59th Superintendent of the U.S. Mi
 litary Academy at West Point on July 17\, 2013. Lieutenant General Caslen 
 graduated from the U.S. Military Academy in 1975. He earned master’s degre
 es from Long Island University and Kansas State University. Previous to th
 is assignment\, Lt. Gen. Caslen served as the Chief of the Office of Secur
 ity Cooperation-Iraq.&nbsp\;&nbsp\;VADM Walter E. “Ted” Carter became the 
 62nd superintendent of the U.S. Naval Academy July 23\, 2014. He is a nati
 ve of Burrillville\, Rhode Island. He graduated from the U.S. Naval Academ
 y in 1981\, was designated a naval flight officer in 1982\, and graduated 
 from the Navy Fighter Weapons School (NFWS) Top Gun in 1985. He completed 
 the Air Command and Staff College course and the Armed Forces Staff Colleg
 e.&nbsp\; 
DTSTART;TZID=America/New_York:20170421T090000
DTEND;TZID=America/New_York:20170421T103000
LAST-MODIFIED:20200211T173206Z
LOCATION:NYE A\, B Taubman 5th Floor\, 79 JFK Street\, Harvard Kennedy Scho
 ol (Taubman Building)
SUMMARY:The View from the Military Academies: A Conversation with the Super
 intendents About Values\, Ethics\, & the Military Profession 
URL;TYPE=URI:https://carrcenter.hks.harvard.edu/event/view-military-academi
 es-conversation-superintendents-about-values-ethics-military
END:VEVENT
END:VCALENDAR
