BEGIN:VCALENDAR
VERSION:2.0
PRODID:-//Drupal: Date iCal//NONSGML kigkonsult.se iCalcreator 2.16.12//
METHOD:PUBLISH
X-WR-CALNAME;VALUE=TEXT:Ical
BEGIN:VTIMEZONE
TZID:America/New_York
BEGIN:STANDARD
DTSTART:20171105T020000
TZOFFSETFROM:-0400
TZOFFSETTO:-0500
TZNAME:EST
END:STANDARD
BEGIN:DAYLIGHT
DTSTART:20170312T020000
TZOFFSETFROM:-0500
TZOFFSETTO:-0400
TZNAME:EDT
END:DAYLIGHT
END:VTIMEZONE
BEGIN:VEVENT
UID:calendar.978016.field_date.0@carrcenter.hks.harvard.edu
DTSTAMP:20210301T011537Z
DESCRIPTION:&nbsp\;Fateh Azzam\, former director of the Asfari Institute fo
 r Civil Society and Citizenship at the American University in Beirut\, wil
 l join&nbsp\;MEI&nbsp\;and the Carr Center for Human Rights Policy to lead
  a four-session study group during spring 2017 on the challenges and prosp
 ects for the&nbsp\;human rights movement in the Arab region in the context
  of armed conflict and authoritarianism.&nbsp\;Dates:2/15/2017 Wednesday\,
  4 – 6 p.m.3/8/2017 Wednesday\, 4 – 6 p.m.3/29/2017 Wednesday\, 4 – 6 p.m.
 4/12/2017 Wednesday\, 4 – 6 p.m.&nbsp\;&nbsp\;
DTSTART;TZID=America/New_York:20170308T160000
DTEND;TZID=America/New_York:20170308T180000
LAST-MODIFIED:20200211T173206Z
RDATE;VALUE=PERIOD;TZID=America/New_York:20170329T160000/20170329T180000,20
 170412T160000/20170412T180000
RRULE:FREQ=WEEKLY;COUNT=1;INTERVAL=3;BYDAY=WE;WKST=SU
SUMMARY:Study Group: Human Rights Activism in the Arab Region: What Next?
URL;TYPE=URI:https://carrcenter.hks.harvard.edu/event/study-group-human-rig
 hts-activism-arab-region-what-next-0
END:VEVENT
END:VCALENDAR
