BEGIN:VCALENDAR
VERSION:2.0
PRODID:-//Drupal: Date iCal//NONSGML kigkonsult.se iCalcreator 2.16.12//
METHOD:PUBLISH
X-WR-CALNAME;VALUE=TEXT:Ical
BEGIN:VTIMEZONE
TZID:America/New_York
BEGIN:STANDARD
DTSTART:20171105T020000
TZOFFSETFROM:-0400
TZOFFSETTO:-0500
TZNAME:EST
END:STANDARD
BEGIN:DAYLIGHT
DTSTART:20170312T020000
TZOFFSETFROM:-0500
TZOFFSETTO:-0400
TZNAME:EDT
END:DAYLIGHT
END:VTIMEZONE
BEGIN:VEVENT
UID:calendar.965376.field_date.0@carrcenter.hks.harvard.edu
DTSTAMP:20210228T235112Z
DESCRIPTION:&nbsp\;Luis Moreno-Ocampo\, the first-ever Prosecutor of the IC
 C\, will convene a dynamic group of select students and researchers from a
 cross Harvard University to workshop chapters of his forthcoming book on t
 he emergence and evolution of the ICC.&nbsp\;Dates &amp\; Times:2/2/2017 T
 hursday\, 2:30 – 4:30 p.m.3/2/2017 Thursday\, 2:30 – 4:30 p.m.4/6/2017 Thu
 rsday\, 2:30 – 4:30 p.m.APPLY HERE BY 2/24/17&nbsp\;
DTSTART;TZID=America/New_York:20170302T143000
DTEND;TZID=America/New_York:20170302T163000
LAST-MODIFIED:20200211T173142Z
LOCATION:Location to be released to accepted applicants. 
SUMMARY:Study Group: International Criminal Court with Luis Moreno Ocampo
URL;TYPE=URI:https://carrcenter.hks.harvard.edu/event/study-group-internati
 onal-criminal-court-luis-moreno-ocampo-0
END:VEVENT
END:VCALENDAR
