BEGIN:VCALENDAR
VERSION:2.0
PRODID:-//Drupal: Date iCal//NONSGML kigkonsult.se iCalcreator 2.16.12//
METHOD:PUBLISH
X-WR-CALNAME;VALUE=TEXT:Ical
BEGIN:VTIMEZONE
TZID:America/New_York
BEGIN:STANDARD
DTSTART:20171105T020000
TZOFFSETFROM:-0400
TZOFFSETTO:-0500
TZNAME:EST
END:STANDARD
BEGIN:DAYLIGHT
DTSTART:20170312T020000
TZOFFSETFROM:-0500
TZOFFSETTO:-0400
TZNAME:EDT
END:DAYLIGHT
END:VTIMEZONE
BEGIN:VEVENT
UID:calendar.944186.field_date.0@carrcenter.hks.harvard.edu
DTSTAMP:20210228T235122Z
DESCRIPTION:Speaker(s):&nbsp\;Swanee HuntDate:&nbsp\;Tuesday\, January 10\,
  2017 - 6:00pmA Conversation with&nbsp\;Ambassador Swanee HuntThe Eleanor 
 Roosevelt Lecturer in Public PolicyFrom Colombia to Syria\, women are at t
 he frontlines of preventing conflict\, negotiating ceasefires\, and helpin
 g their countries rebuild after war. Defying death threats and armed group
 s\, they are bringing much-needed security to their communities.For the 18
 th annual forum in this “Inclusive Security” series\, join senior governme
 nt and civil society leaders as they describe how they forge peace in vola
 tile parts of the world. Ambassador Swanee Hunt\, the Eleanor Roosevelt Le
 cturer in Public Policy\, will moderate the discussion with these leading 
 decision-makers from conflict-torn countries.Co-Sponsors:&nbsp\;Center for
  Public Leadership\, Carr Center for Human Rights Policy\, Women and Publi
 c Policy Program&nbsp\;
DTSTART;TZID=America/New_York:20170110T180000
DTEND;TZID=America/New_York:20170110T200000
LAST-MODIFIED:20200211T173055Z
LOCATION:Harvard Kennedy School JFK Forum 79 JFK Street
SUMMARY:Forum: Inclusive Security: Stop a War and Thwart the Next
URL;TYPE=URI:https://carrcenter.hks.harvard.edu/event/forum-inclusive-secur
 ity-stop-war-and-thwart-next
END:VEVENT
END:VCALENDAR
