BEGIN:VCALENDAR
VERSION:2.0
PRODID:-//Drupal: Date iCal//NONSGML kigkonsult.se iCalcreator 2.16.12//
METHOD:PUBLISH
X-WR-CALNAME;VALUE=TEXT:Ical
BEGIN:VTIMEZONE
TZID:America/New_York
BEGIN:STANDARD
DTSTART:20201101T020000
TZOFFSETFROM:-0400
TZOFFSETTO:-0500
RDATE:20211107T020000
TZNAME:EST
END:STANDARD
BEGIN:DAYLIGHT
DTSTART:20210314T020000
TZOFFSETFROM:-0500
TZOFFSETTO:-0400
TZNAME:EDT
END:DAYLIGHT
END:VTIMEZONE
BEGIN:VEVENT
UID:calendar.1379524.field_date.0@carrcenter.hks.harvard.edu
DTSTAMP:20210301T010714Z
DESCRIPTION:\n	Corruption is never a victimless crime. Grand corruption – th
 e abuse of public office for private gain – is a contributor to some of th
 e world’s most serious human rights concerns. Refugees are fleeing failed 
 states because of corruption\, corrupt government leaders (kleptocrats) ar
 e enriching themselves while their citizens die of hunger\, lack of health
 care\, and the effects of climate change. \n\n\n\n	Investigative journalist
 s play an important role in the fight against corruption. From the Panama 
 Papers\, to the Luanda Leaks\, to the recent FinCEN Files\, the Internatio
 nal Consortium of Investigative Journalists has exposed the devastating co
 nsequences of corruption. Currently\, billions of funds meant to combat th
 e COVID-19 pandemic are being stolen by elite kleptocrats around the globe
 .\n\n\n\n	Despite the evidence generated by investigative journalists and o
 thers\, Kleptocrats are rarely prosecuted because they control the police\
 , the prosecutors\, and the courts in the countries they rule. A new\, int
 ernational mechanism is needed to address this impunity. The world needs a
 n International Anti-Corruption Court to prosecute kleptocrats and bring j
 ustice to the victims of grand corruption. \n\n\n\n	Panelists:&nbsp\;\n\n\n
 \n	\n		Judge Mark Wolf |&nbsp\;Chair\, Integrity Initiatives International\; 
 Senior Fellow\, Carr Center\n	\n	\n		Slagjana Taseva |&nbsp\;Chair\, Transpare
 ncy International Macedonia\n	\n	\n		Will Fitzgibbon | Senior ICIJ reporter&nb
 sp\;\n	\n	\n		Sushma Raman (Moderator) | Executive Director\, Carr Center for 
 Human Rights Policy&nbsp\;\n	\n\n\n\n	Judge Mark Wolf was appointed to the U
 .S. District Court for the District of Massachusetts in 1985\, served as t
 he Chief Judge from 2006 - 2012\, and is now a Senior Judge. He previously
  served in the Department of Justice as a Special Assistant to the Attorne
 y General\, Deputy U.S. Attorney for the District of Massachusetts\, and C
 hief of the Public Corruption Unit. Judge Wolf is Chair of Integrity Initi
 atives International and an Adjunct Lecturer in Public Policy at the Harva
 rd Kennedy School\, teaching a seminar on combatting corruption internatio
 nally. He is also a member of the Council on Foreign Relations and Disting
 uished Non-Resident Fellow of the Woodrow Wilson Center.\n\n\n\n	Professor 
 Slagjana Taseva is professor in criminal law and criminology\, Member of t
 he Academic Advisory Board of the International Anticorruption Academy (IA
 CA) in Laxemburg\, Austria\, former Committee member of the Afghanistan In
 ternational Anti-Corruption Monitoring and Evaluation Committee(MEC) and C
 hair of TI Macedonia. Together with her children she has established EURIS
 K Consulting\, the Legal Consulting Company. Being specialised in money la
 undering\, financial crime\, corruption and organised crime she holds a Ph
 D in law from Sts. Cyril and Methodius University in Skopje where she star
 ted her remarkable academic career. After having taught at various academi
 c institutions she was appointed Director of the Police Academy in Skopje 
 (which is a University member) in 2004. In 2006 she became Vice President 
 of the Association of the European Police Colleges. In 2008 she was appoin
 ted Dean of the Faculty for Detectives and Criminalists at the European Un
 iversity of the Republic of Macedonia. Since 2010 she is General Manager o
 f EURISK Consulting. She founded the NGO Transparency International Macedo
 nia in 2001 and in 2006 she became the Chair.\n\n\n\n	Will Fitzgibbon is a 
 senior ICIJ reporter. He is also ICIJ's Africa and Middle East partnership
  coordinator. Will joined ICIJ in 2014 and coordinated the Fatal Extractio
 n investigation that examined the impact of Australian mining companies in
  Africa. It remains one of the largest pan-African collaborations of journ
 alists. Will has reported on ICIJ projects\, including West Africa Leaks\,
  Paradise Papers and Panama Papers. He coordinates ICIJ's partnerships wit
 h journalists in Africa and the Middle East. Before coming to Washington\,
  he worked at The Bureau of Investigative Journalism (TBIJ) in London wher
 e his work on politics\, the finance industry and housing appeared in The 
 Guardian and The Observer. He studied at the London School of Economics\, 
 Sciences-Po Paris and The Australian National University.\n\n\n\n	Sushma Ra
 man is the Carr Center's Executive Director. Sushma brings a rich and dive
 rse background in philanthropy\, human rights and social justice through h
 er work in the U.S. and globally with the Ford Foundation and the Open Soc
 iety Foundations\, as well as her experience leading human rights programs
 \, philanthropic collaboratives\, and social justice foundations. Sushma’s
  upcoming book\, co-authored with Bill Schulz\, The Coming Good Society: W
 hy New Realities Demand New Rights\, looks at the coming changes to the hu
 man rights landscape and argues that rights must adapt to new technologica
 l and scientific realities or risk being consigned to irrelevance.\n\n\n\n
 	Virtual Event Details\n\n\n\n	This event will be livestreamed on YouTube Li
 ve. Attendees registered for this event (link below) will receive a remind
 er for the livestream fifteen minutes before the event along with a link t
 o the YouTube page where you can participate in the live chat and ask ques
 tions during the event.\n\n\n\n	&nbsp\;\n\n\n\n	&nbsp\;\n\n
DTSTART;TZID=America/New_York:20201110T130000
DTEND;TZID=America/New_York:20201110T141500
LAST-MODIFIED:20201102T153801Z
LOCATION:Virtual Event (Registration Required)
SUMMARY:The Human Consequences of Corruption
URL;TYPE=URI:https://carrcenter.hks.harvard.edu/event/human-consequences-co
 rruption
END:VEVENT
END:VCALENDAR
