BEGIN:VCALENDAR
VERSION:2.0
PRODID:-//Drupal: Date iCal//NONSGML kigkonsult.se iCalcreator 2.16.12//
METHOD:PUBLISH
X-WR-CALNAME;VALUE=TEXT:Ical
BEGIN:VTIMEZONE
TZID:America/New_York
BEGIN:STANDARD
DTSTART:20201101T020000
TZOFFSETFROM:-0400
TZOFFSETTO:-0500
TZNAME:EST
END:STANDARD
BEGIN:DAYLIGHT
DTSTART:20210314T020000
TZOFFSETFROM:-0500
TZOFFSETTO:-0400
TZNAME:EDT
END:DAYLIGHT
END:VTIMEZONE
BEGIN:VEVENT
UID:calendar.1374709.field_date.0@carrcenter.hks.harvard.edu
DTSTAMP:20210301T010701Z
DESCRIPTION:\n	Please join the Carr Center for Human Rights Policy for its s
 ignature weekly series this fall\,&nbsp\;The Fierce Urgency of Now\,&nbsp\
 ;featuring Black\, Indigenous\, People of Color scholars\, activists\, and
  community leaders\, and experts from the Global South. Hosted and facilit
 ated by Sushma Raman and Mathias Risse\, the series also aligns with a cou
 rse they will co-teach this fall at the Harvard Kennedy School on Economic
  Justice: Theory and Practice.\n\n\n\n	Panelists:\n\n\n\n	\n		Saru Jayaraman&n
 bsp\;|&nbsp\;President of One Fair Wage\, Co-Founder of the Restaurant Opp
 ortunities Centers United (ROC United)\, and Director of the Food Labor Re
 search Center at the University of California\, Berkeley\n	\n\n\n\n	Saru Jay
 araman is the President of One Fair Wage\, Co-Founder of the Restaurant Op
 portunities Centers United (ROC United)\, and Director of the Food Labor R
 esearch Center at the University of California\, Berkeley. Saru is a gradu
 ate of Yale Law School and the Harvard Kennedy School of Government. She w
 as profiled in the New York Times “Public Lives” section in 2005\, named o
 ne of Crain’s “40 Under 40” in 2008\, was 1010 Wins’ “Newsmaker of the Yea
 r” and New York Magazine’s “Influentials” of New York City. She was listed
  in CNN’s “Top10 Visionary Women” and recognized as a Champion of Change b
 y the White House in 2014\, and a James Beard Foundation Leadership Award 
 in 2015. Saru authored Behind the Kitchen Door (Cornell University Press\,
  2013)\, a national bestseller\, and has appeared on CNN with Soledad O’Br
 ien\, Bill Moyers Journal on PBS\, Melissa Harris Perry and UP with Chris 
 Hayes on MSNBC\, Real Time with Bill Maher on HBO\, the Today Show\, and N
 BC Nightly News with Brian Williams. Her most recent book is Forked: A New
  Standard for American Dining (Oxford University Press\, 2016). She attend
 ed the Golden Globes in January 2018 with Amy Poehler as part of the Times
  Up action to address sexual harassment. In 2019\, she was named the San F
 rancisco Chronicle Visionary of the Year.\n\n\n\n	Virtual Event DetailsThis
  event will be livestreamed on YouTube Live. Attendees registered for this
  event (link below) will receive a reminder for the livestream fifteen min
 utes before the event along with a link to the YouTube page where you can 
 participate in the live chat and ask questions during the event.&nbsp\;\n
 \n
DTSTART;TZID=America/New_York:20201008T133000
DTEND;TZID=America/New_York:20201008T143000
LAST-MODIFIED:20201007T191245Z
LOCATION:Virtual Event (Registration Required)
SUMMARY:Labor Justice: Reimagining the Restaurant Industry in the time of C
 OVID-19
URL;TYPE=URI:https://carrcenter.hks.harvard.edu/event/labor-justice-rethink
 ing-economic-justice-corporation
END:VEVENT
END:VCALENDAR
