BEGIN:VCALENDAR
VERSION:2.0
PRODID:-//Drupal: Date iCal//NONSGML kigkonsult.se iCalcreator 2.16.12//
METHOD:PUBLISH
X-WR-CALNAME;VALUE=TEXT:Ical
BEGIN:VTIMEZONE
TZID:America/New_York
BEGIN:STANDARD
DTSTART:20201101T020000
TZOFFSETFROM:-0400
TZOFFSETTO:-0500
TZNAME:EST
END:STANDARD
BEGIN:DAYLIGHT
DTSTART:20210314T020000
TZOFFSETFROM:-0500
TZOFFSETTO:-0400
TZNAME:EDT
END:DAYLIGHT
END:VTIMEZONE
BEGIN:VEVENT
UID:calendar.1374646.field_date.0@carrcenter.hks.harvard.edu
DTSTAMP:20210301T004740Z
DESCRIPTION:\n	On&nbsp\;Thursday\, October 1&nbsp\;at&nbsp\;7pm ET\,&nbsp\;j
 oin President of the Human Rights Campaign\,&nbsp\;Alphonso David\, in con
 versation with&nbsp\;Harvard Kennedy School Professor&nbsp\;Timothy Patric
 k McCarthy\,&nbsp\;Lecturer on Education and Public Policy\, and Core Facu
 lty\, Carr Center for Human Rights Policy discussing pressing matters to t
 he LGBTQ community and celebrating LGBTQ History Month.\n\n\n\n	The quest f
 or equity and inclusion in the LGBTQ community has historically faced many
  obstacles and in these challenging times the urgency to protect marginali
 zed and vulnerable communities is even more pressing.&nbsp\; With election
  2020 front of mind\, what will the LGBTQ community look like as we gaze d
 own the two paths in front of us: a Biden Presidency or a second Trump ter
 m.&nbsp\; We bring together a prominent advocate and civil right leader wi
 th an academic thought leader to discuss the past\, present and future of 
 LGBTQ rights.\n\n\n\n	RSVP to join the virtual JFK Jr. Forum conversation.
 \n\n
DTSTART;TZID=America/New_York:20201001T190000
DTEND;TZID=America/New_York:20201001T200000
LAST-MODIFIED:20200928T152810Z
LOCATION:Virtual Event (Registration Required)
SUMMARY:A conversation with Alphonso David\, Human Rights Campaign
URL;TYPE=URI:https://carrcenter.hks.harvard.edu/event/conversation-alphonso
 -david-human-rights-campaign-and-tim-mccarthy-lecturer-education-and
END:VEVENT
END:VCALENDAR
