BEGIN:VCALENDAR
VERSION:2.0
PRODID:-//Drupal: Date iCal//NONSGML kigkonsult.se iCalcreator 2.16.12//
METHOD:PUBLISH
X-WR-CALNAME;VALUE=TEXT:Ical
BEGIN:VTIMEZONE
TZID:America/New_York
BEGIN:STANDARD
DTSTART:20201101T020000
TZOFFSETFROM:-0400
TZOFFSETTO:-0500
TZNAME:EST
END:STANDARD
BEGIN:DAYLIGHT
DTSTART:20210314T020000
TZOFFSETFROM:-0500
TZOFFSETTO:-0400
TZNAME:EDT
END:DAYLIGHT
END:VTIMEZONE
BEGIN:VEVENT
UID:calendar.1374614.field_date.0@carrcenter.hks.harvard.edu
DTSTAMP:20210301T010702Z
DESCRIPTION:\n	Join us for a conversation with mothers from across the Ameri
 cas who\, after losing children to police and state violence\, have become
  powerful activists fighting for justice and institutional changes to end 
 state violence affecting Black\, indigenous\, and low-income youth.&nbsp\;
 \n\n\n\n	Speakers:\n\n\n\n	\n		Dorothy Holmes\, Ronnieman Foundation and Justi
 ce for Families\, Chicago\, US&nbsp\;\n	\n	\n		Débora Maria da Silva\, Mothers
  of May\, Brazil\n	\n	\n		Rute Fiuza\, Mothers of May of the Northeast\, Brazi
 l\n	\n	\n		Jacqueline Castillo\, Mothers of False Positives of Soacha and Bogo
 tá\, Colombia\n	\n	\n		Cristina Bautista Salvador\, Mothers and Fathers of the
  43 Disappeared Students of Ayotzinapa\, Mexico&nbsp\;\n	\n\n\n\n	Convened b
 y Assistant Professor Yanilda González. Sponsored by Ash Center for Democr
 atic Governance and Innovation\, Carr Center for Human Rights Policy\, Cen
 ter for Public Leadership\, FXB Center for Health and Human Rights\, and t
 he Program in Criminal Justice Policy and Management at the Weiner Center 
 for Social Policy.&nbsp\;\n\n\n\n	Event Website and Registration: https://a
 sh.harvard.edu/event/resisting-police-violence-americas-mothers-front-line
 s\n\n\n\n	\n\n\n\n
DTSTART;TZID=America/New_York:20201008T160000
DTEND;TZID=America/New_York:20201008T170000
LAST-MODIFIED:20200928T130017Z
LOCATION:Virtual Event (Registration Required)
SUMMARY:Resisting Police Violence in the Americas: Mothers on the Front Lin
 es
URL;TYPE=URI:https://carrcenter.hks.harvard.edu/event/resisting-police-viol
 ence-americas-mothers-front-lines
END:VEVENT
END:VCALENDAR
