BEGIN:VCALENDAR
VERSION:2.0
PRODID:-//Drupal: Date iCal//NONSGML kigkonsult.se iCalcreator 2.16.12//
METHOD:PUBLISH
X-WR-CALNAME;VALUE=TEXT:Ical
BEGIN:VTIMEZONE
TZID:America/New_York
BEGIN:STANDARD
DTSTART:20201101T020000
TZOFFSETFROM:-0400
TZOFFSETTO:-0500
TZNAME:EST
END:STANDARD
BEGIN:DAYLIGHT
DTSTART:20210314T020000
TZOFFSETFROM:-0500
TZOFFSETTO:-0400
TZNAME:EDT
END:DAYLIGHT
END:VTIMEZONE
BEGIN:VEVENT
UID:calendar.1372383.field_date.0@carrcenter.hks.harvard.edu
DTSTAMP:20210301T011117Z
DESCRIPTION:\n	Welcome to the nexus of awarding-winning art\, activism\, pol
 itics\, and culture. Hosted by the Center for Popular Democracy\, they are
  bringing together some of the world’s biggest artists\, community organiz
 ers\, and progressive leaders for a historic multi-hour\, cross-platform l
 ivestream.&nbsp\;\n\n\n\n	Dr. Tim McCarthy\,&nbsp\;Lecturer on History and 
 Literature\, Education &amp\; Public Policy at Harvard University\, will b
 e part of the following sessions:&nbsp\;\n\n\n\n	\n		Thursday\, September 24\
 , 4-5:30pm: 'Performing 1776: The Politics and Poetics of the Declaration 
 of Independence' (lecture with Dr. Tim McCarthy&nbsp\;and Professor John S
 tauffer\, drawn from their&nbsp\;popular Harvard course\, 'American Protes
 t Literature from Tom Paine to Tupac')\n	\n	\n		Friday\, September 25\, 12:30-
 1:30pm: '1776: The Audacity to Exist' (roundtable with Dr. Time McCarthy\,
  Professor Vincent Brown\, and members of the cast and creative team of A.
 R.T.'s revival of the musical&nbsp\;1776)\n	\n\n\n\n	How to Register:&nbsp\;
 \n\n\n\n	This is a ticketed event. Tickets cost $25 and can be purchased at
  the following website:&nbsp\;https://transformation2020.org/\n\n\n\n	&nbsp
 \;\n\n\n\n	&nbsp\;\n\n
DTSTART;TZID=America/New_York:20200924T163000
DTEND;TZID=America/New_York:20200926T133000
LAST-MODIFIED:20200921T132526Z
LOCATION:Virtual Event (Registration Required)
SUMMARY:Transformation 2020: Popular Democracy Defined 
URL;TYPE=URI:https://carrcenter.hks.harvard.edu/event/transformation-2020-p
 opular-democracy-defined
END:VEVENT
END:VCALENDAR
