BEGIN:VCALENDAR
VERSION:2.0
PRODID:-//Drupal: Date iCal//NONSGML kigkonsult.se iCalcreator 2.16.12//
METHOD:PUBLISH
X-WR-CALNAME;VALUE=TEXT:Ical
BEGIN:VTIMEZONE
TZID:America/New_York
BEGIN:STANDARD
DTSTART:20201101T020000
TZOFFSETFROM:-0400
TZOFFSETTO:-0500
TZNAME:EST
END:STANDARD
BEGIN:DAYLIGHT
DTSTART:20210314T020000
TZOFFSETFROM:-0500
TZOFFSETTO:-0400
TZNAME:EDT
END:DAYLIGHT
END:VTIMEZONE
BEGIN:VEVENT
UID:calendar.1368757.field_date.0@carrcenter.hks.harvard.edu
DTSTAMP:20210301T011120Z
DESCRIPTION:\n	Please join the Carr Center for Human Rights Policy for its s
 ignature weekly series this fall\,&nbsp\;The Fierce Urgency of Now\,&nbsp\
 ;featuring Black\, Indigenous\, People of Color scholars\, activists\, and
  community leaders\, and experts from the Global South. Hosted and facilit
 ated by Sushma Raman and Mathias Risse\, the series also aligns with a cou
 rse they will co-teach this fall at the Harvard Kennedy School on Economic
  Justice: Theory and Practice.&nbsp\;\n\n\n\n	Panelists:\n\n\n\n	\n		Vijay Pra
 shad&nbsp\;|&nbsp\;Director\, Tricontinental: Institute for Social Researc
 h\;&nbsp\;Chief Editor\, LeftWord Books\n	\n\n\n\n	Vijay Prashad is an India
 n historian and journalist. Prashad is the author of thirty books\, includ
 ing Washington Bullets\, Red Star Over the Third World\, The Darker Nation
 s: A People's History of the Third World\,&nbsp\;and The Poorer Nations: A
  Possible History of the Global South. He is the Chief Correspondent for&n
 bsp\;Globetrotter.&nbsp\;He is the Chief Editor of&nbsp\;LeftWord Books (N
 ew Delhi).&nbsp\;Prashad is a journalist\, the Chief Correspondent for Glo
 betrotter - a project of the Independent Media Institute. He is a columnis
 t for&nbsp\;Frontline&nbsp\;and writes regularly for&nbsp\;The Hindu&nbsp\
 ;and&nbsp\;BirGun. He has reported from around the world for the Indian me
 dia - from Latin America to the Middle East to Africa\n\n\n\n	&nbsp\;\n\n\n
 \n	Virtual Event DetailsThis event will be livestreamed on YouTube Live. At
 tendees registered for this event (link below) will receive a reminder for
  the livestream fifteen minutes before the event along with a link to the 
 YouTube page where you can participate in the live chat and ask questions 
 during the event.\n\n
DTSTART;TZID=America/New_York:20200924T133000
DTEND;TZID=America/New_York:20200924T143000
LAST-MODIFIED:20200918T160448Z
LOCATION:Virtual Event (Registration Required)
SUMMARY:Washington Bullets: a Conversation with Vijay Prashad about Marxism
  Today and the Role of the United States in the World
URL;TYPE=URI:https://carrcenter.hks.harvard.edu/event/marxism
END:VEVENT
END:VCALENDAR
