BEGIN:VCALENDAR
VERSION:2.0
PRODID:-//Drupal: Date iCal//NONSGML kigkonsult.se iCalcreator 2.16.12//
METHOD:PUBLISH
X-WR-CALNAME;VALUE=TEXT:Ical
BEGIN:VTIMEZONE
TZID:America/New_York
BEGIN:STANDARD
DTSTART:20201101T020000
TZOFFSETFROM:-0400
TZOFFSETTO:-0500
TZNAME:EST
END:STANDARD
BEGIN:DAYLIGHT
DTSTART:20210314T020000
TZOFFSETFROM:-0500
TZOFFSETTO:-0400
TZNAME:EDT
END:DAYLIGHT
END:VTIMEZONE
BEGIN:VEVENT
UID:calendar.1368752.field_date.0@carrcenter.hks.harvard.edu
DTSTAMP:20210301T011057Z
DESCRIPTION:\n	Please join the Carr Center for Human Rights Policy for its s
 ignature weekly series this fall\,&nbsp\;The Fierce Urgency of Now\,&nbsp\
 ;featuring Black\, Indigenous\, People of Color scholars\, activists\, and
  community leaders\, and experts from the Global South. Hosted and facilit
 ated by Sushma Raman and Mathias Risse\, the series also aligns with a cou
 rse they will co-teach this fall at the Harvard Kennedy School on Economic
  Justice: Theory and Practice.&nbsp\;\n\n\n\n	Panelists:\n\n\n\n	\n		Michael C
 . Dawson&nbsp\;|&nbsp\;John D. MacArthur Professor of Political Science an
 d the College\, University of Chicago\n	\n\n\n\n	&nbsp\;\n\n\n\n	Michael C. D
 awson is the John D. MacArthur Professor of Political Science and the Coll
 ege at the University of Chicago. He has also taught at the University of 
 Michigan and Harvard University. Dawson received his BA with High Honors f
 rom Berkeley in 1982 and doctorate degree from Harvard University in 1986.
  Professor Dawson was co-principal investigator of the 1988 National Black
  Election Study and was principal investigator with Ronald Brown of the 19
 93-1994 National Black Politics Study. His research interests have include
 d the development of quantitative models of African American political beh
 avior\, identity\, and public opinion\, the political effects of urban pov
 erty\, and African American political ideology. This work also includes de
 lineating the differences in African American public opinion from those of
  white Americans. More recently he has combined his quantitative work with
  work in political theory.\n\n\n\n	Virtual Event DetailsThis event will be 
 livestreamed on YouTube Live. Attendees registered for this event (link be
 low) will receive a reminder for the livestream fifteen minutes before the
  event along with a link to the YouTube page where you can participate in 
 the live chat and ask questions during the event.\n\n
DTSTART;TZID=America/New_York:20200917T133000
DTEND;TZID=America/New_York:20200917T143000
LAST-MODIFIED:20200831T142839Z
LOCATION:Virtual Event (Registration Required)
SUMMARY:Neoliberalism and Black Politics
URL;TYPE=URI:https://carrcenter.hks.harvard.edu/event/neoliberalism-and-bla
 ck-politics
END:VEVENT
END:VCALENDAR
