BEGIN:VCALENDAR
VERSION:2.0
PRODID:-//Drupal: Date iCal//NONSGML kigkonsult.se iCalcreator 2.16.12//
METHOD:PUBLISH
X-WR-CALNAME;VALUE=TEXT:Ical
BEGIN:VTIMEZONE
TZID:America/New_York
BEGIN:STANDARD
DTSTART:20201101T020000
TZOFFSETFROM:-0400
TZOFFSETTO:-0500
TZNAME:EST
END:STANDARD
BEGIN:DAYLIGHT
DTSTART:20210314T020000
TZOFFSETFROM:-0500
TZOFFSETTO:-0400
TZNAME:EDT
END:DAYLIGHT
END:VTIMEZONE
BEGIN:VEVENT
UID:calendar.1367734.field_date.0@carrcenter.hks.harvard.edu
DTSTAMP:20210301T011055Z
DESCRIPTION:\n	We welcome you to join us for our annual Open House event.&nb
 sp\;Learn more about the&nbsp\;Carr Center for Human Rights Policy&nbsp\;a
 nd our dual mission: to educate students and the next generation of leader
 s from around the world in human rights policy and practice\; and to conve
 ne and provide policy-relevant knowledge to international organizations\, 
 governments\, policymakers\, and businesses. We will be sharing more infor
 mation on courses offered by Carr Center Faculty\, various opportunities f
 or student engagement\, and research programs.&nbsp\;This event is&nbsp\;o
 pen to&nbsp\;all Harvard undergraduate\, graduate\, P.h.D students\, and f
 ellows.&nbsp\;\n\n\n\n	Virtual Event DetailsAttendees registered for this e
 vent (link below) will receive a Zoom link&nbsp\;for the Open House&nbsp\;
 thirty&nbsp\;minutes before the event. You must provide your Harvard email
  when registering.&nbsp\;\n\n
DTSTART;TZID=America/New_York:20200911T130000
DTEND;TZID=America/New_York:20200911T140000
LAST-MODIFIED:20200827T161730Z
LOCATION:Virtual Event (Registration Required)
SUMMARY:Open House: Carr Center for Human Rights Policy
URL;TYPE=URI:https://carrcenter.hks.harvard.edu/event/open-house-carr-cente
 r-human-rights-policy-open-hks-students-only
END:VEVENT
END:VCALENDAR
