BEGIN:VCALENDAR
VERSION:2.0
PRODID:-//Drupal: Date iCal//NONSGML kigkonsult.se iCalcreator 2.16.12//
METHOD:PUBLISH
X-WR-CALNAME;VALUE=TEXT:Ical
BEGIN:VTIMEZONE
TZID:America/New_York
BEGIN:STANDARD
DTSTART:20201101T020000
TZOFFSETFROM:-0400
TZOFFSETTO:-0500
TZNAME:EST
END:STANDARD
BEGIN:DAYLIGHT
DTSTART:20210314T020000
TZOFFSETFROM:-0500
TZOFFSETTO:-0400
TZNAME:EDT
END:DAYLIGHT
END:VTIMEZONE
BEGIN:VEVENT
UID:calendar.1311856.field_date.0@carrcenter.hks.harvard.edu
DTSTAMP:20210301T011027Z
DESCRIPTION:\n	Introducing activism through the lens of a solidarity group i
 n Hungary.\n\n\n\n	Panelists:\n\n\n\n	\n		Aiski Ryokas&nbsp\;| Activist\n	\n	\n		A
 liz Pocsuvalszki |&nbsp\;Activist\n	\n	\n		Mussa Kilam&nbsp\;| Activist&nbsp\;
 \n	\n	\n		Amy Rodgers&nbsp\;| Activist&nbsp\;\n	\n	\n		Camille Tournebize&nbsp\;| 
 Activist&nbsp\;\n	\n	\n		Aniko&nbsp\;Bakonyi (co-moderator)&nbsp\;| Topol Fell
 ow\, Carr Center for Human Rights Policy&nbsp\;\n	\n	\n		Erica Chenoweth (co-m
 oderator) |&nbsp\;Berthold Beitz Professor in Human Rights and Internation
 al Affairs at&nbsp\;Harvard Kennedy School&nbsp\;and a Susan S. and Kennet
 h L. Wallach Professor at the&nbsp\;Radcliffe Institute for Advanced Study
 .\n	\n\n\n\n	&nbsp\;\n\n\n\n	Aiski Ryokas&nbsp\;was an activist in Migszol be
 tween 2013-2018\, while also involved in organizing demonstrations for aca
 demic freedom in Hungary in 2017. She now works for LGBTQIA+ rights in Fin
 land.\n\n\n\n	Aliz Pocsuvalszki&nbsp\;was an activist in Migszol between 20
 14-2018. She is a teacher\, currently working with education and marginali
 zed groups in Hungary\n\n\n\n	Mussa Kilam&nbsp\;a refugee from Eritrea and 
 was an activist in Migszol between 2014-2018. Currently he works as a “Bak
 er and track coordinator” at OLIve Weekend Program.\n\n\n\n	Amy Rodgers&nbs
 p\;was an activist in Migszol between 2014-2016. Based in Beirut\, she cur
 rently works as a humanitarian policy advisor on the Syrian Crisis.\n\n\n
 \n	Camille Tournebize&nbsp\;was a Migszol activist between 2012 and 2017. S
 he now provides legal counseling to foreigners in Lyon (France) for an org
 anization supporting homeless people.\n\n\n\n	Aniko&nbsp\;Bakonyi&nbsp\;is 
 a human rights defender from Budapest\, Hungary. For the past eight years\
 , she has been working for the Refugee Program of the Hungarian Helsinki C
 ommittee as a Senior Program Officer. Her work focuses on protecting the r
 ights of refugees through human rights monitoring\, counselling\, advocacy
 \, and reporting.&nbsp\;In her professional life\, Aniko has worked with v
 ictims of human trafficking\, Roma and Jewish Holocaust survivors and thei
 r families\, and refugees arriving in Hungary from all over the world. Sin
 ce 2018\, she serves as a board member of the Berlin-based EU-Russia Civil
  Society Forum\, with a membership of 160 organizations from the EU and Ru
 ssia. Aniko’s interests have always centered around social justice\, prote
 cting and empowering disadvantaged groups in society.&nbsp\;She holds an M
 A in Human Rights from the Central European University in Budapest. Aniko 
 is currently a Mid-Career MPA student and a Mason Fellow at the Harvard Ke
 nnedy School and is expected to graduate in 2020. She is one of the organi
 zers of the Dubin Leadership Field Experience trip to the US-Mexico border
 .\n\n\n\n	Erica Chenoweth&nbsp\;&nbsp\;is the Berthold Beitz Professor in H
 uman Rights and International Affairs at Harvard Kennedy School and a&nbsp
 \;Susan S. and Kenneth L. Wallach Professor at the Radcliffe Institute for
  Advanced Study. Her research focuses on political violence and its altern
 atives.&nbsp\;Foreign Policy&nbsp\;magazine ranked her among the Top 100 G
 lobal Thinkers of 2013. She also won the 2014 Karl Deutsch Award\, given a
 nnually by the International Studies Association to the scholar under 40 w
 ho has made the most significant impact on the field of international poli
 tics or peace research. Her next book\,&nbsp\;Civil Resistance: What Every
 one Needs to Know&nbsp\;(Oxford\, 2020)\, explores in an accessible and co
 nversational style what civil resistance is\, how it works\, why it someti
 mes fails\, how violence and repression affect it\, and the long-term impa
 cts of such resistance.\n\n\n\n	&nbsp\;\n\n\n\n	Virtual Event Details:This e
 vent will be livestreamed on YouTube Live. Attendees registered for this e
 vent (link below) will receive a reminder for the livestream fifteen minut
 es before the event along with a link to the YouTube page where you can pa
 rticipate in the live chat and ask questions during the event.\n\n
DTSTART;TZID=America/New_York:20200605T120000
DTEND;TZID=America/New_York:20200605T131500
LAST-MODIFIED:20200602T204316Z
LOCATION:Virtual Event (Registration Required)
SUMMARY:Migrants in Hungary and the Role of Grassroots Groups
URL;TYPE=URI:https://carrcenter.hks.harvard.edu/event/migrants-hungary-and-
 role-grassroots-groups
END:VEVENT
END:VCALENDAR
