BEGIN:VCALENDAR
VERSION:2.0
PRODID:-//Drupal: Date iCal//NONSGML kigkonsult.se iCalcreator 2.16.12//
METHOD:PUBLISH
X-WR-CALNAME;VALUE=TEXT:Ical
BEGIN:VTIMEZONE
TZID:America/New_York
BEGIN:STANDARD
DTSTART:20201101T020000
TZOFFSETFROM:-0400
TZOFFSETTO:-0500
TZNAME:EST
END:STANDARD
BEGIN:DAYLIGHT
DTSTART:20200308T020000
TZOFFSETFROM:-0500
TZOFFSETTO:-0400
TZNAME:EDT
END:DAYLIGHT
END:VTIMEZONE
BEGIN:VEVENT
UID:calendar.1277259.field_date.0@carrcenter.hks.harvard.edu
DTSTAMP:20210301T011011Z
DESCRIPTION:\n	Towards Life 3.0: Ethics and Technology in the 21st&nbsp\;Cen
 tury&nbsp\;is a talk series organized and facilitated by Mathias Risse\, D
 irector of the Carr Center for Human Rights Policy and Lucius N. Littauer 
 Professor of Philosophy and Public Administration.&nbsp\;Drawing inspirati
 on from the title of Max Tegmark’s book\,&nbsp\;Life 3.0: Being Human in t
 he Age of&nbsp\;Artificial Intelligence\, the&nbsp\;series draws upon a ra
 nge of scholars\, technology leaders\, and public interest technologists t
 o&nbsp\;address the ethical aspects of the long-term impact of artificial 
 intelligence on society&nbsp\;and human life.\n\n\n\n	Desmond Patton\, Form
 er Technology and Human Rights Fellow at the Carr Center for Human Rights 
 Policy\, will give a talk titled\, 'Can AI Solve Gun Violence or Is It a P
 art of the Problem?'\n\n\n\n	A light dinner will be served.\n\n
DTSTART;TZID=America/New_York:20200302T173000
DTEND;TZID=America/New_York:20200302T184500
LAST-MODIFIED:20200214T160401Z
LOCATION:Rubenstein 414-AB 
SUMMARY:Can AI Solve Gun Violence or Is It a Part of the Problem? 
URL;TYPE=URI:https://carrcenter.hks.harvard.edu/event/can-ai-solve-gun-viol
 ence-or-it-part-problem
END:VEVENT
END:VCALENDAR
