BEGIN:VCALENDAR
VERSION:2.0
PRODID:-//Drupal: Date iCal//NONSGML kigkonsult.se iCalcreator 2.16.12//
METHOD:PUBLISH
X-WR-CALNAME;VALUE=TEXT:Ical
BEGIN:VTIMEZONE
TZID:America/New_York
BEGIN:STANDARD
DTSTART:20201101T020000
TZOFFSETFROM:-0400
TZOFFSETTO:-0500
TZNAME:EST
END:STANDARD
BEGIN:DAYLIGHT
DTSTART:20200308T020000
TZOFFSETFROM:-0500
TZOFFSETTO:-0400
TZNAME:EDT
END:DAYLIGHT
END:VTIMEZONE
BEGIN:VEVENT
UID:calendar.1272628.field_date.0@carrcenter.hks.harvard.edu
DTSTAMP:20210301T011114Z
DESCRIPTION:\n	The Carr Center for Human Rights Policy and the Ash Center fo
 r Democratic Governance and Innovation welcomes Shoshana Zuboff\, Charles 
 Edward Wilson Professor of Business Administration at Harvard Business Sch
 ool\,&nbsp\;as part of the Towards Life 3.0 talk series. Towards Life 3.0:
  Ethics and Technology in the 21st Century is a talk series organized and 
 facilitated by Mathias Risse\, Director of the Carr Center for Human Right
 s Policy and Lucius N. Littauer Professor of Philosophy and Public Adminis
 tration. Drawing inspiration from the title of Max Tegmark’s book\, Life 3
 .0: Being Human in the Age of Artificial Intelligence\, the series draws u
 pon a range of scholars\, technology leaders\, and public interest technol
 ogists to address the ethical aspects of the long-term impact of artificia
 l intelligence on society and human life.\n\n\n\n	In this conversation\, Pr
 ofessor Zuboff will offer insights from her latest book\, “The Age of Surv
 eillance Capitalism: The Fight for a Human Future at the New Frontier of P
 ower.” \n\n\n\n	A light dinner will be served.\n\n
DTSTART;TZID=America/New_York:20200224T173000
DTEND;TZID=America/New_York:20200224T184500
LAST-MODIFIED:20200211T172713Z
LOCATION:Rubenstein 414-AB 
SUMMARY:The Age of Surveillance Capitalism: A Conversation with Shoshana Zu
 boff
URL;TYPE=URI:https://carrcenter.hks.harvard.edu/event/age-surveillance-capi
 talism-conversation-shoshana-zuboff
END:VEVENT
END:VCALENDAR
