BEGIN:VCALENDAR
VERSION:2.0
PRODID:-//Drupal: Date iCal//NONSGML kigkonsult.se iCalcreator 2.16.12//
METHOD:PUBLISH
X-WR-CALNAME;VALUE=TEXT:Ical
BEGIN:VTIMEZONE
TZID:America/New_York
BEGIN:STANDARD
DTSTART:20201101T020000
TZOFFSETFROM:-0400
TZOFFSETTO:-0500
TZNAME:EST
END:STANDARD
BEGIN:DAYLIGHT
DTSTART:20210314T020000
TZOFFSETFROM:-0500
TZOFFSETTO:-0400
TZNAME:EDT
END:DAYLIGHT
END:VTIMEZONE
BEGIN:VEVENT
UID:calendar.1272406.field_date.0@carrcenter.hks.harvard.edu
DTSTAMP:20210228T235139Z
DESCRIPTION:\n	Towards Life 3.0: Ethics and Technology in the 21st Century i
 s a talk series organized and facilitated by Mathias Risse\, Director of t
 he Carr Center for Human Rights Policy and Lucius N. Littauer Professor of
  Philosophy and Public Administration. Drawing inspiration from the title 
 of Max Tegmark’s book\, Life 3.0: Being Human in the Age of Artificial Int
 elligence\, the series draws upon a range of scholars\, technology leaders
 \, and public interest technologists to address the ethical aspects of the
  long-term impact of artificial intelligence on society and human life.\n
 \n\n\n	Vivek Krishnamurthy\, Samuelson-Glushko Professor of Law and Directo
 r of the Samuelson-Glushko Canadian Internet Policy and Public Interest Cl
 inic (CIPPIC)\, University of Ottawa\, will give a talk titled\, 'The New 
 Cybersecurity of the Mind.'\n\n\n\n	A light dinner will be served.\n\n
DTSTART;TZID=America/New_York:20200427T173000
DTEND;TZID=America/New_York:20200427T184500
LAST-MODIFIED:20200309T204946Z
LOCATION:Rubenstein 414-AB 
SUMMARY:CANCELLED - The New Cybersecurity of the Mind
URL;TYPE=URI:https://carrcenter.hks.harvard.edu/event/new-cybersecurity-min
 d
END:VEVENT
END:VCALENDAR
