BEGIN:VCALENDAR
VERSION:2.0
PRODID:-//Drupal: Date iCal//NONSGML kigkonsult.se iCalcreator 2.16.12//
METHOD:PUBLISH
X-WR-CALNAME;VALUE=TEXT:Ical
BEGIN:VTIMEZONE
TZID:America/New_York
BEGIN:STANDARD
DTSTART:20201101T020000
TZOFFSETFROM:-0400
TZOFFSETTO:-0500
TZNAME:EST
END:STANDARD
BEGIN:DAYLIGHT
DTSTART:20200308T020000
TZOFFSETFROM:-0500
TZOFFSETTO:-0400
TZNAME:EDT
END:DAYLIGHT
END:VTIMEZONE
BEGIN:VEVENT
UID:calendar.1271093.field_date.0@carrcenter.hks.harvard.edu
DTSTAMP:20210228T235123Z
DESCRIPTION:\n	The Carr Center for Human Rights Policy and the Belfer Center
  for Science and International Affairs welcome John Coughlan\, former UN H
 uman Rights Officer\, for a discussion of the current situation of the Roh
 ingya in the Rakhine state. Mr. Coughlan will be joined in conversation wi
 th Samantha Power\, Former Ambassador to the United Nations from 2013 to 2
 017\, Anna Lindh Professor of the Practice of Global Leadership and Public
  Policy at Harvard Kennedy School and William D. Zabel Professor of the Pr
 actice of Human Rights at Harvard Law School.&nbsp\;\n\n\n\n	In this conver
 sation\, Mr. Coughlan will offer his perspective on the status of Rohingya
  in the Rakhine state as well as inside the refugee camps of Cox’s Bazar i
 n Bangladesh. Offering insights from the ground\, the conversation will pr
 ovide an overview to the current crisis\, the state of human rights\, and 
 the growing lack of attention from the international community. \n\n
DTSTART;TZID=America/New_York:20200124T120000
DTEND;TZID=America/New_York:20200124T131500
LAST-MODIFIED:20200211T173142Z
LOCATION:Belfer Center Library 
SUMMARY:The Rohingya Crisis: A View from the Ground
URL;TYPE=URI:https://carrcenter.hks.harvard.edu/event/rohingya-crisis-view-
 ground
END:VEVENT
END:VCALENDAR
