BEGIN:VCALENDAR
VERSION:2.0
PRODID:-//Drupal: Date iCal//NONSGML kigkonsult.se iCalcreator 2.16.12//
METHOD:PUBLISH
X-WR-CALNAME;VALUE=TEXT:Ical
BEGIN:VTIMEZONE
TZID:America/New_York
BEGIN:STANDARD
DTSTART:20201101T020000
TZOFFSETFROM:-0400
TZOFFSETTO:-0500
TZNAME:EST
END:STANDARD
BEGIN:DAYLIGHT
DTSTART:20200308T020000
TZOFFSETFROM:-0500
TZOFFSETTO:-0400
RDATE:20210314T020000
TZNAME:EDT
END:DAYLIGHT
END:VTIMEZONE
BEGIN:VEVENT
UID:calendar.1270862.field_date.0@carrcenter.hks.harvard.edu
DTSTAMP:20210228T235138Z
DESCRIPTION:\n	The Carr Center’s Human Rights in Hard Places talk series off
 ers unparalleled insights and analysis from the frontlines by human rights
  practitioners\, policy makers\, and innovators.&nbsp\;Moderated by Sushma
  Raman\, the series highlights current day human rights and humanitarian c
 oncerns such as human rights in North Korea\, migration on the US-Mexico b
 order\, Myanmar\, and the dismantling of democracy.\n\n\n\n	Megan Ming Fran
 cis\, Visiting Associate Professor of Public Policy at the Harvard Kennedy
  School and author of&nbsp\;Civil Rights and the Making of the Modern Amer
 ican State\, will give a talk titled\, 'The Price of Civil Rights: Black L
 ives\, White Funding\, and Movement Capture.'\n\n\n\n	&nbsp\;\n\n\n\n	Megan 
 Ming Francis:\n\n\n\n	Megan Ming Francis is a Visiting Associate Professor 
 of Public Policy at the Harvard Kennedy School and Associate Professor of 
 Political Science at the University of Washington. Francis specializes in 
 the study of American politics\, with broad interests in criminal punishme
 nt\, black political activism\, philanthropy\, and the post-civil war Sout
 h.\n\n\n\n	She is the author of the award winning book\,&nbsp\;Civil Rights
  and the Making of the Modern American State&nbsp\;(2014). This book tells
  the story of how the early campaign against state sanctioned racial viole
 nce of the National Association for the Advancement of Colored People (NAA
 CP) shaped the modern civil rights movement. Francis marshals an extensive
  archival analysis to show that the battle against lynching and mob violen
 ce in the first quarter of the 20th century was pivotal to the development
  of civil rights and the growth of federal court power. Francis is current
 ly at work on a second book project that examines the role of convict leas
 ing in the rebuilding of southern political power and modern capitalism af
 ter the Civil War.\n\n\n\n	&nbsp\;\n\n
DTSTART;TZID=America/New_York:20200407T114500
DTEND;TZID=America/New_York:20200407T130000
LAST-MODIFIED:20200309T204615Z
LOCATION:Allison Dining Room
SUMMARY:CANCELLED - The Price of Civil Rights: Black Lives\, White Funding\
 , and Movement Capture
URL;TYPE=URI:https://carrcenter.hks.harvard.edu/event/price-civil-rights-bl
 ack-lives-white-funding-and-movement-capture
END:VEVENT
END:VCALENDAR
