BEGIN:VCALENDAR
VERSION:2.0
PRODID:-//Drupal: Date iCal//NONSGML kigkonsult.se iCalcreator 2.16.12//
METHOD:PUBLISH
X-WR-CALNAME;VALUE=TEXT:Ical
BEGIN:VTIMEZONE
TZID:America/New_York
BEGIN:STANDARD
DTSTART:20201101T020000
TZOFFSETFROM:-0400
TZOFFSETTO:-0500
TZNAME:EST
END:STANDARD
BEGIN:DAYLIGHT
DTSTART:20200308T020000
TZOFFSETFROM:-0500
TZOFFSETTO:-0400
TZNAME:EDT
END:DAYLIGHT
END:VTIMEZONE
BEGIN:VEVENT
UID:calendar.1270441.field_date.0@carrcenter.hks.harvard.edu
DTSTAMP:20210228T235124Z
DESCRIPTION:\n	Towards Life 3.0: Ethics and Technology in the 21st&nbsp\;Cen
 tury&nbsp\;is a talk series organized and facilitated by Mathias Risse\, D
 irector of the Carr Center for Human Rights Policy and Lucius N. Littauer 
 Professor of Philosophy and Public Administration. Drawing inspiration fro
 m the title of Max Tegmark’s book\,&nbsp\;Life 3.0: Being Human in the Age
  of&nbsp\;Artificial Intelligence\, the&nbsp\;series draws upon a range of
  scholars\, technology leaders\, and public interest technologists to&nbsp
 \;address the ethical aspects of the long-term impact of artificial intell
 igence on society&nbsp\;and human life.\n\n\n\n	Joan Donovan\, Director and
  Lead Researcher of the Technology and Social Change Research Project at t
 he Shorenstein Center on Media\, Politics and Public Policy will give a ta
 lk titled\, 'Drafted into the Meme Wars: Disinformation in US Elections.'
 \n\n\n\n	A light dinner will be served.\n\n\n\n	&nbsp\;\n\n
DTSTART;TZID=America/New_York:20200309T173000
DTEND;TZID=America/New_York:20200309T184500
LAST-MODIFIED:20200309T201329Z
LOCATION:Rubenstein 414-AB 
SUMMARY:CANCELLED - Drafted into the Meme Wars: Disinformation in US Electi
 ons
URL;TYPE=URI:https://carrcenter.hks.harvard.edu/event/towards-life-30-draft
 ed-meme-wars-disinformation-us-elections
END:VEVENT
END:VCALENDAR
