BEGIN:VCALENDAR
VERSION:2.0
PRODID:-//Drupal: Date iCal//NONSGML kigkonsult.se iCalcreator 2.16.12//
METHOD:PUBLISH
X-WR-CALNAME;VALUE=TEXT:Ical
BEGIN:VTIMEZONE
TZID:America/New_York
BEGIN:STANDARD
DTSTART:20191103T020000
TZOFFSETFROM:-0400
TZOFFSETTO:-0500
RDATE:20201101T020000
TZNAME:EST
END:STANDARD
BEGIN:DAYLIGHT
DTSTART:20200308T020000
TZOFFSETFROM:-0500
TZOFFSETTO:-0400
TZNAME:EDT
END:DAYLIGHT
END:VTIMEZONE
BEGIN:VEVENT
UID:calendar.1230534.field_date.0@carrcenter.hks.harvard.edu
DTSTAMP:20210301T010841Z
DESCRIPTION:\n	The Carr Center’s Human Rights in Hard Places talk series off
 ers unparalleled insights and analysis from the frontlines by human rights
  practitioners\, policy makers\, and innovators. Moderated by Sushma Raman
 \, the series highlights current day human rights and humanitarian concern
 s such as human rights in North Korea\, migration on the US-Mexico border\
 , Myanmar\, and the dismantling of democracy.\n\n\n\n	Shannon Watts\,&nbsp\
 ;Gun Violence Prevention Advocate &amp\; Founder\, Moms Demand Action\, wi
 ll give a talk titled\, 'The NRA's Worst Nightmare.'\n\n\n\n	Shannon Watts:
 \n\n\n\n	Shannon Watts is a mother of five who\, prior to founding Moms Dem
 and Action\, was a stay-at-home mom and former communications executive. T
 he day after the Sandy Hook tragedy\, Shannon started a Facebook group wit
 h the message that all Americans can and should do more to reduce gun viol
 ence. The online conversation turned into a grassroots movement of America
 ns fighting for public safety measures that protect people from gun violen
 ce. Moms Demand Action has established a chapter in every state of the cou
 ntry and is part of Everytown for Gun Safety\, the largest gun violence pr
 evention organization in the country\, with nearly 6 million supporters. I
 n addition to her work with Moms Demand Action\, Watts is an active board 
 member of Emerge America\, one of the nation’s leading organizations for r
 ecruiting and training women to run for office. Her book\, Fight Like a Mo
 ther\, was released in May of 2019. In 2018\, Shannon was named as one of 
 PEOPLE’s 25 Women Changing the World\, and InStyle profiled her in its ann
 ual “Badass Woman” series.\n\n
DTSTART;TZID=America/New_York:20191107T114500
DTEND;TZID=America/New_York:20191107T130000
LAST-MODIFIED:20200211T173214Z
LOCATION:Wexner 102 
SUMMARY:Human Rights in Hard Places Speaker Series: The NRA's Worst Nightma
 re 
URL;TYPE=URI:https://carrcenter.hks.harvard.edu/event/human-rights-hard-pla
 ces-speaker-series-nras-worst-nightmare
END:VEVENT
END:VCALENDAR
