BEGIN:VCALENDAR
VERSION:2.0
PRODID:-//Drupal: Date iCal//NONSGML kigkonsult.se iCalcreator 2.16.12//
METHOD:PUBLISH
X-WR-CALNAME;VALUE=TEXT:Ical
BEGIN:VTIMEZONE
TZID:America/New_York
BEGIN:STANDARD
DTSTART:20191103T020000
TZOFFSETFROM:-0400
TZOFFSETTO:-0500
TZNAME:EST
END:STANDARD
BEGIN:DAYLIGHT
DTSTART:20200308T020000
TZOFFSETFROM:-0500
TZOFFSETTO:-0400
TZNAME:EDT
END:DAYLIGHT
END:VTIMEZONE
BEGIN:VEVENT
UID:calendar.1228222.field_date.0@carrcenter.hks.harvard.edu
DTSTAMP:20210301T010936Z
DESCRIPTION:\n	The Carr Center’s Human Rights in Hard Places talk series off
 ers unparalleled insights and analysis from the frontlines by human rights
  practitioners\, policy makers\, and innovators. Moderated by Sushma Raman
 \, the series highlights current day human rights and humanitarian concern
 s such as human rights in North Korea\, migration on the US-Mexico border\
 , Myanmar\, and the dismantling of democracy.\n\n\n\n	Jonathan Ryan\, Execu
 tive Director of RAICES\, will give a talk titled\, 'Build Bridges\, Not W
 alls | Migration on the US-Mexico Border.'\n\n\n\n	Speakers:\n\n\n\n	Jonatha
 n Ryan\n\n\n\n	Jonathan Ryan has served as the Executive Director of the Re
 fugee and Immigrant Center for Education and Legal Services (RAICES) since
  2008. RAICES provides free and low-cost legal services to immigrant child
 ren\, families and refugees in Central and South Texas. Under Mr. Ryan’s t
 enure\, RAICES has grown from an office of four to become the largest nonp
 rofit immigration law office in Texas\, with more than 100 people and offi
 ces in San Antonio\, Austin\, Dallas\, Fort Worth\, Corpus Christi\, Houst
 on and Washington\, D.C. He has expanded the agency’s services to include 
 the representation of thousands of unaccompanied children and mothers with
  children in detention each year\, free services for DACA-eligible individ
 uals across South Texas and refugee resettlement. In recent years\, RAICES
  has developed into one of the strongest advocacy voices for immigrant rig
 hts in the nation. Mr. Ryan has been featured and quoted in publications i
 ncluding The New York Times\, The New Yorker\, The LA Times\, The Washingt
 on Post\, The Guardian\, NPR’s Morning Edition and All Things Considered a
 nd The Huffington Post\; as well as frequent appearances in both Spanish- 
 and English-language television and media. In his prior position\, he help
 ed to establish a pro bono legal program for adults in DHS detention. Jona
 than received his B.A. from Columbia College in New York and is a graduate
  of the University of Texas School of Law.\n\n
DTSTART;TZID=America/New_York:20191030T114500
DTEND;TZID=America/New_York:20191030T130000
LAST-MODIFIED:20200211T173214Z
LOCATION:Wexner-434AB
SUMMARY:Human Rights in Hard Places Speaker Series: Build Bridges\, Not Wal
 ls | Migration on the US-Mexico Border
URL;TYPE=URI:https://carrcenter.hks.harvard.edu/event/human-rights-hard-pla
 ces-speaker-series-migration-crisis-southern-us-border
END:VEVENT
END:VCALENDAR
