BEGIN:VCALENDAR
VERSION:2.0
PRODID:-//Drupal: Date iCal//NONSGML kigkonsult.se iCalcreator 2.16.12//
METHOD:PUBLISH
X-WR-CALNAME;VALUE=TEXT:Ical
BEGIN:VTIMEZONE
TZID:America/New_York
BEGIN:STANDARD
DTSTART:20191103T020000
TZOFFSETFROM:-0400
TZOFFSETTO:-0500
TZNAME:EST
END:STANDARD
BEGIN:DAYLIGHT
DTSTART:20200308T020000
TZOFFSETFROM:-0500
TZOFFSETTO:-0400
TZNAME:EDT
END:DAYLIGHT
END:VTIMEZONE
BEGIN:VEVENT
UID:calendar.1227217.field_date.0@carrcenter.hks.harvard.edu
DTSTAMP:20210301T010951Z
DESCRIPTION:\n	Renowned civil liberties lawyer Burt Neuborne&nbsp\;will disc
 uss his book\, When at Times the Mob is Swayed: A Citizen's Guide to Defen
 ding Our Republic.\n\n\n\n	Neuborne\, a former national legal director of t
 he American Civil Liberties Union and founding legal director of the Brenn
 an Center for Justice at the New York University School of Law\, has parti
 cipated in more than two hundred cases in the U.S. Supreme Court.\n\n\n\n	P
 art urgent warning that the constitutional brakes on excessive executive p
 ower are dangerously weakened\, and part repair manual for those willing t
 o get their hands dirty repairing them\, When at Times the Mob is Swayed i
 s as timely as it is necessary.\n\n\n\n	This event is held as part of the C
 arr Center's Iniatiative on Renewing Rights and Responsibilities in the U.
 S.\n\n\n\n	&nbsp\;\n\n
DTSTART;TZID=America/New_York:20191030T170000
DTEND;TZID=America/New_York:20191030T183000
LAST-MODIFIED:20200211T173214Z
LOCATION:Wexner G-02 Seminar Room
SUMMARY:Book Talk - When at Times the Mob is Swayed with Burt Neuborne
URL;TYPE=URI:https://carrcenter.hks.harvard.edu/event/book-talk-when-times-
 mob-swayed-burt-neuborne
END:VEVENT
END:VCALENDAR
