BEGIN:VCALENDAR
VERSION:2.0
PRODID:-//Drupal: Date iCal//NONSGML kigkonsult.se iCalcreator 2.16.12//
METHOD:PUBLISH
X-WR-CALNAME;VALUE=TEXT:Ical
BEGIN:VTIMEZONE
TZID:America/New_York
BEGIN:STANDARD
DTSTART:20191103T020000
TZOFFSETFROM:-0400
TZOFFSETTO:-0500
TZNAME:EST
END:STANDARD
BEGIN:DAYLIGHT
DTSTART:20200308T020000
TZOFFSETFROM:-0500
TZOFFSETTO:-0400
TZNAME:EDT
END:DAYLIGHT
END:VTIMEZONE
BEGIN:VEVENT
UID:calendar.1161464.field_date.0@carrcenter.hks.harvard.edu
DTSTAMP:20210301T012406Z
DESCRIPTION:\n	The Carr Center for Human Rights Policy is excited to announc
 e its 2019 Speaker Series:&nbsp\;Human Rights in Hard Places\, facilitated
  by Carr Center Executive Director\,&nbsp\;Sushma Raman.\n\n\n\n	The Human 
 Rights in Hard Places Speaker Series was formed to underscore that despite
  the creation of the Universal Declaration of Human Rights in 1948\,&nbsp\
 ;vast human rights abuses are still occurring&nbsp\;7 decades later.&nbsp\
 ;\n\n\n\n	We hope for this to serve as a platform for individuals to hear f
 rom the world's leading practitioners and academics in the human rights fi
 eld\, and to listen\, question and engage.&nbsp\;&nbsp\;\n\n\n\n	Nat Kretch
 un\, Deputy Director of Open Tech Fund\, will give a talk titled\, 'Digita
 l Control: Modern Censorship and Surveillance in the Kim Jong Un Era.'&nbs
 p\;\n\n
DTSTART;TZID=America/New_York:20190508T114500
DTEND;TZID=America/New_York:20190508T130000
LAST-MODIFIED:20190327T150714Z
LOCATION:Taubman Room 135\, 79 JFK Street 
SUMMARY:Human Rights in Hard Places Speaker Series: Digital Control: Modern
  Censorship and Surveillance in the Kim Jong Un Era 
URL;TYPE=URI:https://carrcenter.hks.harvard.edu/event/human-rights-hard-pla
 ces-speaker-series-digital-control-modern-censorship-and
END:VEVENT
END:VCALENDAR
