BEGIN:VCALENDAR
VERSION:2.0
PRODID:-//Drupal: Date iCal//NONSGML kigkonsult.se iCalcreator 2.16.12//
METHOD:PUBLISH
X-WR-CALNAME;VALUE=TEXT:Ical
BEGIN:VTIMEZONE
TZID:America/New_York
BEGIN:STANDARD
DTSTART:20191103T020000
TZOFFSETFROM:-0400
TZOFFSETTO:-0500
TZNAME:EST
END:STANDARD
BEGIN:DAYLIGHT
DTSTART:20200308T020000
TZOFFSETFROM:-0500
TZOFFSETTO:-0400
TZNAME:EDT
END:DAYLIGHT
END:VTIMEZONE
BEGIN:VEVENT
UID:calendar.1158300.field_date.0@carrcenter.hks.harvard.edu
DTSTAMP:20210301T012247Z
DESCRIPTION:\n	Towards Life 3.0: Ethics and Technology in the 21st&nbsp\;Cen
 tury&nbsp\;is a new talk series organized and facilitated by Mathias Risse
 \, Director of the Carr Center for Human Rights Policy and Lucius N. Litta
 uer Professor of Philosophy and Public Administration. Drawing inspiration
  from the title of Max Tegmark’s book\,&nbsp\;Life 3.0: Being Human in the
  Age of&nbsp\;Artificial Intelligence\, the&nbsp\;series draws upon a rang
 e of scholars\, technology leaders\, and public interest technologists to&
 nbsp\;address the ethical aspects of the long-term impact of artificial in
 telligence on society&nbsp\;and human life.\n\n\n\n	Held on select Monday e
 venings&nbsp\;at 5:30 – 6:45 in Wexner 102\, and occasionally on other wee
 kdays\,&nbsp\;the series will also be shared on Facebook Live and on the C
 arr Center website. A light dinner will be served.\n\n\n\n	Sarah Newman\, S
 enior Researcher at metaLAB and Fellow at the Berkman Klein Center for Int
 ernet and Society\, will be giving a talk titled\, 'Navigating the Moral L
 abyrinth: Intersections of Philosophy\, AI\, and Art.'\n\n\n\n	&nbsp\;\n\n
 \n\n	Description:\n\n\n\n	Navigating the Moral Labyrinth: Intersections of P
 hilosophy\, AI\, and Art\n\n\n\n	Moral Labyrinth is a research project and 
 art installation that focuses on human relationships to technology\, and e
 xplores the difficult moral questions that emerge alongside the introducti
 on of new technologies. The work contends with the challenge of embedding 
 values into powerful systems when these systems are created by humans who\
 , ourselves\, are inconsistent and imperfect moral agents. The work is gro
 unded in moral philosophy\, social psychology\, the ethics of technology\,
  and contends with questions that are made particularly pressing with AI t
 echnologies. Moral Labyrinth has been exhibited in Germany\, Austria\, Eng
 land\, and the US\, and a new version of it will be in Tunisia in June. Ne
 wman will share the project\, her views about the necessities of humility 
 and collaboration\, and offer the audience a glimpse at some new direction
 s in her work. In-person attendees of Monday's talk will receive a small f
 ragment of the Moral Labyrinth.\n\n\n\n	&nbsp\;\n\n
DTSTART;TZID=America/New_York:20190513T173000
DTEND;TZID=America/New_York:20190513T184500
LAST-MODIFIED:20200211T174511Z
LOCATION:Wexner Room 102\, 79 JFK Street Cambridge\, MA\, 02138
SUMMARY:Towards Life 3.0 - Ethics and Technology in the 21st Century: Navig
 ating the Moral Labyrinth: Intersections of Philosophy\, AI\, and Art
URL;TYPE=URI:https://carrcenter.hks.harvard.edu/event/towards-life-30-ethic
 s-and-technology-21st-century-sarah-newman-fellow-berkman-klein
END:VEVENT
END:VCALENDAR
