BEGIN:VCALENDAR
VERSION:2.0
PRODID:-//Drupal: Date iCal//NONSGML kigkonsult.se iCalcreator 2.16.12//
METHOD:PUBLISH
X-WR-CALNAME;VALUE=TEXT:Ical
BEGIN:VTIMEZONE
TZID:America/New_York
BEGIN:STANDARD
DTSTART:20191103T020000
TZOFFSETFROM:-0400
TZOFFSETTO:-0500
TZNAME:EST
END:STANDARD
BEGIN:DAYLIGHT
DTSTART:20200308T020000
TZOFFSETFROM:-0500
TZOFFSETTO:-0400
TZNAME:EDT
END:DAYLIGHT
END:VTIMEZONE
BEGIN:VEVENT
UID:calendar.1158299.field_date.0@carrcenter.hks.harvard.edu
DTSTAMP:20210301T012257Z
DESCRIPTION:\n	Towards Life 3.0: Ethics and Technology in the 21stCentury&nb
 sp\;is a new talk series organized and facilitated by Mathias Risse\, Dire
 ctor of the Carr Center for Human Rights Policy and Lucius N. Littauer Pro
 fessor of Philosophy and Public Administration. Drawing inspiration from t
 he title of Max Tegmark’s book\,&nbsp\;Life 3.0: Being Human in the Age of
 &nbsp\;Artificial Intelligence\, the&nbsp\;series draws upon a range of sc
 holars\, technology leaders\, and public interest technologists to&nbsp\;a
 ddress the ethical aspects of the long-term impact of artificial intellige
 nce on society&nbsp\;and human life.\n\n\n\n	Held on select Monday evenings
 &nbsp\;at 5:30 – 6:45 in Wexner 102\, and&nbsp\;occasionally on other week
 days\,&nbsp\;the series will also be shared on Facebook Live and on the Ca
 rr Center website. A light dinner will be served.\n\n\n\n	Sushma Raman\, Ex
 ecutive Director of the Carr Center for Human Rights Policy\, will be givi
 ng a talk titled\, 'Technology I Tyranny I Transnational Advocacy.'\n\n
DTSTART;TZID=America/New_York:20190506T173000
DTEND;TZID=America/New_York:20190506T184500
LAST-MODIFIED:20190530T144802Z
LOCATION:Wexner Room 102\, 79 JFK Street Cambridge\, MA\, 02138
SUMMARY:Towards Life 3.0 - Ethics and Technology in the 21st Century: Techn
 ology I Tyranny I Transnational Advocacy
URL;TYPE=URI:https://carrcenter.hks.harvard.edu/event/towards-life-30-ethic
 s-and-technology-21st-century-sushma-raman-executive-director-carr
END:VEVENT
END:VCALENDAR
