BEGIN:VCALENDAR
VERSION:2.0
PRODID:-//Drupal: Date iCal//NONSGML kigkonsult.se iCalcreator 2.16.12//
METHOD:PUBLISH
X-WR-CALNAME;VALUE=TEXT:Ical
BEGIN:VTIMEZONE
TZID:America/New_York
BEGIN:STANDARD
DTSTART:20191103T020000
TZOFFSETFROM:-0400
TZOFFSETTO:-0500
TZNAME:EST
END:STANDARD
BEGIN:DAYLIGHT
DTSTART:20190310T020000
TZOFFSETFROM:-0500
TZOFFSETTO:-0400
RDATE:20200308T020000
TZNAME:EDT
END:DAYLIGHT
END:VTIMEZONE
BEGIN:VEVENT
UID:calendar.1157797.field_date.0@carrcenter.hks.harvard.edu
DTSTAMP:20210301T012328Z
DESCRIPTION:\n	The Carr Center for Human Rights Policy is excited to announc
 e its 2019 Speaker Series:&nbsp\;Human Rights in Hard Places\, facilitated
  by Harvard Kennedy School Lecturer\, Douglas A. Johnson.&nbsp\;\n\n\n\n	Th
 e Human Rights in Hard Places Speaker Series was formed to underscore that
  despite the creation of the Universal Declaration of Human Rights in 1948
 \,&nbsp\;vast human rights abuses are still occurring&nbsp\;7 decades late
 r.&nbsp\;\n\n\n\n	We hope for this to serve as a platform for individuals t
 o hear from the world's leading practitioners and academics in the human r
 ights field\, and to listen\, question and engage.&nbsp\;&nbsp\;\n\n\n\n	In
  this talk\,&nbsp\;Ayşe Kadıoğlu\, Carr Center Fellow and Professor of Pol
 itical Science at Sabancı University\, will give a talk titled\, 'Autocrat
 ic Legalism in New Turkey.'&nbsp\;\n\n\n\n	&nbsp\;\n\n\n\n	Entrance is only 
 allowed to those with a valid Harvard ID.&nbsp\;\n\n
DTSTART;TZID=America/New_York:20190313T120000
DTEND;TZID=America/New_York:20190313T131500
LAST-MODIFIED:20190220T192834Z
LOCATION:Taubman 102 
SUMMARY:Human Rights in Hard Places Speaker Series: Autocratic Legalism in 
 New Turkey
URL;TYPE=URI:https://carrcenter.hks.harvard.edu/event/human-rights-hard-pla
 ces-speaker-series-autocratic-legalism-new-turkey
END:VEVENT
END:VCALENDAR
