BEGIN:VCALENDAR
VERSION:2.0
PRODID:-//Drupal: Date iCal//NONSGML kigkonsult.se iCalcreator 2.16.12//
METHOD:PUBLISH
X-WR-CALNAME;VALUE=TEXT:Ical
BEGIN:VTIMEZONE
TZID:America/New_York
BEGIN:STANDARD
DTSTART:20191103T020000
TZOFFSETFROM:-0400
TZOFFSETTO:-0500
TZNAME:EST
END:STANDARD
BEGIN:DAYLIGHT
DTSTART:20190310T020000
TZOFFSETFROM:-0500
TZOFFSETTO:-0400
TZNAME:EDT
END:DAYLIGHT
END:VTIMEZONE
BEGIN:VEVENT
UID:calendar.1157448.field_date.0@carrcenter.hks.harvard.edu
DTSTAMP:20210301T012300Z
DESCRIPTION:\n	Towards Life 3.0: Ethics and Technology in the 21st Century i
 s a new talk series organized and facilitated by Mathias Risse\, Director 
 of the Carr Center for Human Rights Policy and Lucius N. Littauer Professo
 r of Philosophy and Public Administration. Drawing inspiration from the ti
 tle of Max Tegmark’s book\, Life 3.0: Being Human in the Age of Artificial
  Intelligence\, the&nbsp\;series draws upon a range of scholars\, technolo
 gy leaders\, and public interest technologists to&nbsp\;address the ethica
 l aspects of the long-term impact of artificial intelligence on society&nb
 sp\;and human life. \n\n\n\n	Held on select Monday evenings&nbsp\;at 5:30 –
  6:45 in Wexner 102\, and ocassionally on other weekdays\,&nbsp\;the serie
 s will also be shared on Facebook Live and on the Carr Center website. A l
 ight dinner will be served. \n\n\n\n	For the inaugural event\, Mathias Riss
 e\, Director of the Carr Center for Human Rights Policy\, will give a talk
  titled\, 'Human Rights &amp\; AI: The Long (Worrisome?) View.'\n\n
DTSTART;TZID=America/New_York:20190225T173000
DTEND;TZID=America/New_York:20190225T184500
LAST-MODIFIED:20190530T144802Z
LOCATION:Wexner Room 102\, 79 JFK Street Cambridge\, MA\, 02138
SUMMARY:Towards Life 3.0 - Ethics and Technology in the 21st Century: Human
  Rights & AI: The Long (Worrisome?) View
URL;TYPE=URI:https://carrcenter.hks.harvard.edu/event/towards-life-30-ethic
 s-and-technology-21st-century-human-rights-ai-long-worrisome-view
END:VEVENT
END:VCALENDAR
