BEGIN:VCALENDAR
VERSION:2.0
PRODID:-//Drupal: Date iCal//NONSGML kigkonsult.se iCalcreator 2.16.12//
METHOD:PUBLISH
X-WR-CALNAME;VALUE=TEXT:Ical
BEGIN:VTIMEZONE
TZID:America/New_York
BEGIN:STANDARD
DTSTART:20191103T020000
TZOFFSETFROM:-0400
TZOFFSETTO:-0500
TZNAME:EST
END:STANDARD
BEGIN:DAYLIGHT
DTSTART:20200308T020000
TZOFFSETFROM:-0500
TZOFFSETTO:-0400
TZNAME:EDT
END:DAYLIGHT
END:VTIMEZONE
BEGIN:VEVENT
UID:calendar.1155278.field_date.0@carrcenter.hks.harvard.edu
DTSTAMP:20210301T011810Z
DESCRIPTION:\n	The Carr Center for Human Rights Policy invites you to join a
  workshop on human rights advocacy!&nbsp\;The workshop is convened and mod
 erated by&nbsp\;Elisa Massimino\, Former President of Human Rights First &
 amp\; Senior Fellow at the Carr Center for Human Rights Policy.\n\n\n\n	Des
 cription:\n\n\n\n	Human rights advocacy can often seem a bit quixotic. But 
 progress is possible. The problems we tackle need serious\, hard-nosed str
 ategies and activists with the skills to execute them. In this study group
 \, we’ll explore key elements of successful human rights advocacy campaign
 s—goal-setting\, communications\, coalition-building—and practical skills 
 advocates need\, especially in today’s politically polarized environment\,
  to win.\n\n
DTSTART;TZID=America/New_York:20190425T123000
DTEND;TZID=America/New_York:20190425T134500
LAST-MODIFIED:20190408T183003Z
LOCATION:Littauer-324
SUMMARY:Workshop: Human Rights Advocacy - Writing to Persuade & Building Co
 alitions
URL;TYPE=URI:https://carrcenter.hks.harvard.edu/event/study-group-human-rig
 hts-advocacy-polarizing-times-building-coalitions-work
END:VEVENT
END:VCALENDAR
