BEGIN:VCALENDAR
VERSION:2.0
PRODID:-//Drupal: Date iCal//NONSGML kigkonsult.se iCalcreator 2.16.12//
METHOD:PUBLISH
X-WR-CALNAME;VALUE=TEXT:Ical
BEGIN:VTIMEZONE
TZID:America/New_York
BEGIN:STANDARD
DTSTART:20191103T020000
TZOFFSETFROM:-0400
TZOFFSETTO:-0500
TZNAME:EST
END:STANDARD
BEGIN:DAYLIGHT
DTSTART:20190310T020000
TZOFFSETFROM:-0500
TZOFFSETTO:-0400
RDATE:20200308T020000
TZNAME:EDT
END:DAYLIGHT
END:VTIMEZONE
BEGIN:VEVENT
UID:calendar.1155277.field_date.0@carrcenter.hks.harvard.edu
DTSTAMP:20210301T012325Z
DESCRIPTION:\n	The Carr Center for Human Rights Policy invites you to join a
  study group on human rights advocacy!&nbsp\;The study group\, which will 
 meet three&nbsp\;times this semester\, is convened and moderated by&nbsp\;
 Elisa Massimino\, Former President of Human Rights First &amp\; Senior Fel
 low at the Carr Center for Human Rights Policy.\n\n\n\n	This is an open stu
 dy group. No registration is required.\n\n\n\n	The study group will meet fr
 om 12:30&nbsp\;- 1:45&nbsp\;pm&nbsp\;on three occasions this semester:\n\n
 \n\n	\n		Thursday\, February 28 in room Littauer-324\n		\n			\n				Topic: Where Are We
  Going? And How Will We Know When We Get There?\n			\n		\n	\n	\n		Thursday\, April 
 4 in room Littauer-324\n		\n			\n				Topic: Writing to Persuade\n			\n		\n	\n	\n		Thursday\,
  April 25 in room Littauer-324\n		\n			\n				Topic: Building Coalitions that Work\n
 			\n		\n	\n\n\n\n	Description:\n\n\n\n	Human rights advocacy can often seem a bit
  quixotic. But progress is possible. The problems we tackle need serious\,
  hard-nosed strategies and activists with the skills to execute them. In t
 his study group\, we’ll explore key elements of successful human rights ad
 vocacy campaigns—goal-setting\, communications\, coalition-building—and pr
 actical skills advocates need\, especially in today’s politically polarize
 d environment\, to win.\n\n
DTSTART;TZID=America/New_York:20190404T123000
DTEND;TZID=America/New_York:20190404T134500
LAST-MODIFIED:20190204T162148Z
LOCATION:Littauer-324
SUMMARY:Study Group: Human Rights Advocacy in Polarizing Times - Writing to
  Persuade
URL;TYPE=URI:https://carrcenter.hks.harvard.edu/event/study-group-human-rig
 hts-advocacy-polarizing-times-writing-persuade
END:VEVENT
END:VCALENDAR
