BEGIN:VCALENDAR
VERSION:2.0
PRODID:-//Drupal: Date iCal//NONSGML kigkonsult.se iCalcreator 2.16.12//
METHOD:PUBLISH
X-WR-CALNAME;VALUE=TEXT:Ical
BEGIN:VTIMEZONE
TZID:America/New_York
BEGIN:STANDARD
DTSTART:20181104T020000
TZOFFSETFROM:-0400
TZOFFSETTO:-0500
TZNAME:EST
END:STANDARD
BEGIN:DAYLIGHT
DTSTART:20190310T020000
TZOFFSETFROM:-0500
TZOFFSETTO:-0400
TZNAME:EDT
END:DAYLIGHT
END:VTIMEZONE
BEGIN:VEVENT
UID:calendar.1138836.field_date.0@carrcenter.hks.harvard.edu
DTSTAMP:20210301T011730Z
DESCRIPTION:\n	Join us for a book talk with Jacqueline Bhabha\, Professor of
  the Practice of Health and Human Rights at the Harvard T.H. Chan School o
 f Public Health\, as she discusses her findings in her recent work Can We 
 Solve the Migration Crisis? \n\n\n\n	Every minute 24 people are forced to l
 eave their homes and over 65 million are currently displaced world-wide. S
 mall wonder that tackling the refugee and migration crisis has become a gl
 obal political priority.But can this crisis be resolved and if so\, how? I
 n this compelling essay\, renowned human rights lawyer and scholar Jacquel
 ine Bhabha explains why forced migration demands compassion\, generosity a
 nd a more vigorous acknowledgement of our shared dependence on human mobil
 ity as a key element of global collaboration. Unless we develop humane 'wi
 n-win' strategies for tackling the inequalities and conflicts driving migr
 ation and for addressing the fears fuelling xenophobia\, she argues\, both
  innocent lives and cardinal human rights principles will be squandered in
  the service of futile nationalism and oppressive border control. \n\n\n\n
 	Refreshments with be provided.\n\n
DTSTART;TZID=America/New_York:20180925T123000
DTEND;TZID=America/New_York:20180925T140000
LAST-MODIFIED:20180910T172201Z
LOCATION:Rubenstein 229 Carr Conference Room
SUMMARY:Book Talk: A Conversation With Jacqueline Bhabha - Can we Solve the
  Migration Crisis? 
URL;TYPE=URI:https://carrcenter.hks.harvard.edu/event/book-talk-conversatio
 n-jacqueline-bhabha-can-we-solve-migration-crisis
END:VEVENT
END:VCALENDAR
