BEGIN:VCALENDAR
VERSION:2.0
PRODID:-//Drupal: Date iCal//NONSGML kigkonsult.se iCalcreator 2.16.12//
METHOD:PUBLISH
X-WR-CALNAME;VALUE=TEXT:Ical
BEGIN:VTIMEZONE
TZID:America/New_York
BEGIN:STANDARD
DTSTART:20181104T020000
TZOFFSETFROM:-0400
TZOFFSETTO:-0500
TZNAME:EST
END:STANDARD
BEGIN:DAYLIGHT
DTSTART:20190310T020000
TZOFFSETFROM:-0500
TZOFFSETTO:-0400
TZNAME:EDT
END:DAYLIGHT
END:VTIMEZONE
BEGIN:VEVENT
UID:calendar.1138639.field_date.0@carrcenter.hks.harvard.edu
DTSTAMP:20210301T004903Z
DESCRIPTION:\n	Join Carr Center Fellows for our monthly lunch discussion ser
 ies with human rights leaders.\n\n\n\n	Lunches are RSVP only\, and you must
  have a Harvard affiliation. (Please note space is very limited).\n\n\n\n	F
 or our first lunch in the series\, please join Carr Center Senior Fellow S
 alil Shetty.&nbsp\;\n\n\n\n	Salil Shetty stepped down as the Secretary Gene
 ral of Amnesty International on July 8 2018\, where he held the position f
 or eight years. A long-term activist on issues of poverty and justice\, Sa
 lil Shetty led the movement's worldwide work to end human rights violation
 s and spearheaded a significant shift of Amnesty International's operation
 s to the global south. The organization\, which already has a presence on 
 the ground in more than 70 countries\, has recently attracted over a milli
 on new members from countries in Africa\, Asia\, the Middle East and Latin
  America.\n\n\n\n	RSVP Below. Lunch provided.\n\n
DTSTART;TZID=America/New_York:20180918T120000
DTEND;TZID=America/New_York:20180918T133000
LAST-MODIFIED:20180907T164427Z
LOCATION:Carr Center Conference Room - R 219
SUMMARY:Carr Center Lunch Series - Senior Fellow Salil Shetty\, former Secr
 etary General of Amnesty International
URL;TYPE=URI:https://carrcenter.hks.harvard.edu/event/carr-center-lunch-ser
 ies-lunch-senior-fellow-salil-shetty-former-secretary-general
END:VEVENT
END:VCALENDAR
