BEGIN:VCALENDAR
VERSION:2.0
PRODID:-//Drupal: Date iCal//NONSGML kigkonsult.se iCalcreator 2.16.12//
METHOD:PUBLISH
X-WR-CALNAME;VALUE=TEXT:Ical
BEGIN:VTIMEZONE
TZID:America/New_York
BEGIN:STANDARD
DTSTART:20181104T020000
TZOFFSETFROM:-0400
TZOFFSETTO:-0500
TZNAME:EST
END:STANDARD
BEGIN:DAYLIGHT
DTSTART:20190310T020000
TZOFFSETFROM:-0500
TZOFFSETTO:-0400
TZNAME:EDT
END:DAYLIGHT
END:VTIMEZONE
BEGIN:VEVENT
UID:calendar.1128969.field_date.0@carrcenter.hks.harvard.edu
DTSTAMP:20210301T012601Z
DESCRIPTION:\n	\n\n\n\n	Come join the Carr Center Faculty\, Fellows and Staff
  for our Fall Open House! We will introduce our fellows and faculty\, give
  an overview of the Center's programs\, opportunities\, and classes.Join u
 s and bring a friend!\n\n
DTSTART;TZID=America/New_York:20180905T163000
DTEND;TZID=America/New_York:20180905T180000
LAST-MODIFIED:20180829T232107Z
LOCATION:Malkin Penthouse\, L-P-9 Littauer Building\, Harvard Kennedy Schoo
 l\, 79 JFK Street\, Cambridge\, MA 02138
SUMMARY:Carr Center Open House
URL;TYPE=URI:https://carrcenter.hks.harvard.edu/event/carr-center-open-hous
 e
END:VEVENT
END:VCALENDAR
