BEGIN:VCALENDAR
VERSION:2.0
PRODID:-//Drupal: Date iCal//NONSGML kigkonsult.se iCalcreator 2.16.12//
METHOD:PUBLISH
X-WR-CALNAME;VALUE=TEXT:Ical
BEGIN:VTIMEZONE
TZID:America/New_York
BEGIN:STANDARD
DTSTART:20181104T020000
TZOFFSETFROM:-0400
TZOFFSETTO:-0500
TZNAME:EST
END:STANDARD
BEGIN:DAYLIGHT
DTSTART:20190310T020000
TZOFFSETFROM:-0500
TZOFFSETTO:-0400
TZNAME:EDT
END:DAYLIGHT
END:VTIMEZONE
BEGIN:VEVENT
UID:calendar.1123814.field_date.0@carrcenter.hks.harvard.edu
DTSTAMP:20210301T012609Z
DESCRIPTION:\n	A discussion with Miklós Lévay and András Kádár. Moderated by
  Carr Center's Douglas A. Johnson.\n\n\n\n	Andras Kadar is an attorney at l
 aw and Co-chair of the Hungarian Helsinki Committee (HHC)\, a human rights
  NGO focusing on – among others – access to justice\, defence rights and t
 orture prevention. He&nbsp\; is currently an HKS Mason Fellow.\n\n\n\n	Besi
 des providing representation before domestic and international forums\, in
 cluding the European Court of Human Rights\, he has been participating for
  the HHC’s various projects in these areas\, including regular detention m
 onitoring.\n\n\n\n	Between 2008 and 2014 he was a member of the Independent
  Police Complaints Board\, a civilian oversight body elected by and operat
 ing under the Hungarian Parliament.\n\n\n\n	&nbsp\;\n\n\n\n	Miklós Lévay is 
 Chair and&nbsp\; Professor of Criminology and Criminal Law at the Departme
 nt of&nbsp\; Criminology Faculty of Law at Eötvös Loránd University (ELTE)
 \, Budapest\, Hungary.\n\n\n\n	Professor Lévay has been the Chairperson of 
 the Advisory Board of the UN European Crime Prevention Institute (HEUNI). 
 Professor Lévay served as a Justice of the Constitutional Court of Hungary
  between 2007-2016.&nbsp\; Professor Lévay has been a Fulbright Visiting S
 cholar at the Northeastern University School of Criminology and Criminal J
 ustice\, Boston\, MA from February 2018 up to July 2018.&nbsp\;&nbsp\;&nbs
 p\;&nbsp\;&nbsp\;&nbsp\; \n\n\n\n	&nbsp\;\n\n\n\n	&nbsp\;\n\n\n\n	&nbsp\;\n\n
 \n\n	&nbsp\;\n\n
DTSTART;TZID=America/New_York:20180430T131500
DTEND;TZID=America/New_York:20180430T150000
LAST-MODIFIED:20180424T191009Z
LOCATION:B-L-1-Weil Town Hall
SUMMARY:What in the world is happening in Hungary? A look at the continued 
 rise of an authoritarian democracy.
URL;TYPE=URI:https://carrcenter.hks.harvard.edu/event/what-world-happening-
 hungary%C2%A0-look-continued-rise-authoritarian-democracy
END:VEVENT
END:VCALENDAR
