BEGIN:VCALENDAR
VERSION:2.0
PRODID:-//Drupal: Date iCal//NONSGML kigkonsult.se iCalcreator 2.16.12//
METHOD:PUBLISH
X-WR-CALNAME;VALUE=TEXT:Ical
BEGIN:VTIMEZONE
TZID:America/New_York
BEGIN:STANDARD
DTSTART:20181104T020000
TZOFFSETFROM:-0400
TZOFFSETTO:-0500
TZNAME:EST
END:STANDARD
BEGIN:DAYLIGHT
DTSTART:20180311T020000
TZOFFSETFROM:-0500
TZOFFSETTO:-0400
RDATE:20190310T020000
TZNAME:EDT
END:DAYLIGHT
END:VTIMEZONE
BEGIN:VEVENT
UID:calendar.1119398.field_date.0@carrcenter.hks.harvard.edu
DTSTAMP:20210301T011642Z
DESCRIPTION:A panel discussion marking International Roma Day with:\n\n	\n		Ja
 cqueline Bhabha\, Director of Research\, Harvard FXB Center for Health and
  Human Rights\, Harvard School of Public Health\n	\n	\n		Margareta Matache\, I
 nstructor\, Harvard FXB Center for Health and Human Rights\, Harvard Schoo
 l of Public Health\n	\n	\n		Cornel West\, Professor of the Practice of Public 
 Philosophy\, Harvard University Department of African and African American
  Studies\, Harvard Divinity School\n	\n\n\n\n	APRIL 4th\, 2018 | 5-6:30pm | 
 Starr Auditorium | Harvard Kennedy School\n\n\n\n	https://fxb.harvard.edu/e
 vent/alone-together-a-panel-discussion-on-international-roma-day/This is t
 he sixth annual event at Harvard marking International Roma Day\n\n\n\n	Thi
 s event is FREE and open to the public\n\n\n\n	Presented by:\n\n\n\n	Harvard
  FXB Center for Health and Human RightsThe Department of African and Afric
 an American Studies at Harvard UniversityHarvard Kennedy School Office of 
 Diversity and Inclusion\n\n
DTSTART;TZID=America/New_York:20180404T170000
DTEND;TZID=America/New_York:20180404T183000
LAST-MODIFIED:20180322T175858Z
LOCATION:Starr Auditorium\, 79 JKF Street\, Cambridge MA
SUMMARY:Alone Together: A Panel Discussion on International Roma Day
URL;TYPE=URI:https://carrcenter.hks.harvard.edu/event/alone-together-panel-
 discussion-international-roma-day
END:VEVENT
END:VCALENDAR
