BEGIN:VCALENDAR
VERSION:2.0
PRODID:-//Drupal: Date iCal//NONSGML kigkonsult.se iCalcreator 2.16.12//
METHOD:PUBLISH
X-WR-CALNAME;VALUE=TEXT:Ical
BEGIN:VTIMEZONE
TZID:America/New_York
BEGIN:STANDARD
DTSTART:20181104T020000
TZOFFSETFROM:-0400
TZOFFSETTO:-0500
TZNAME:EST
END:STANDARD
BEGIN:DAYLIGHT
DTSTART:20180311T020000
TZOFFSETFROM:-0500
TZOFFSETTO:-0400
RDATE:20190310T020000
TZNAME:EDT
END:DAYLIGHT
END:VTIMEZONE
BEGIN:VEVENT
UID:calendar.1118205.field_date.0@carrcenter.hks.harvard.edu
DTSTAMP:20210301T012204Z
DESCRIPTION:\n	This study group\, led by Carr Center Fellow\, Jung-Hoon Lee\
 , is open to all. It will meet three times during the spring\, 2018 semest
 er:\n\n\n\n	\n		Thursday\, March 29\, 3:00-4:30pm\, Fainsod Room (L-324)\n	\n	
 \n		Thursday\, April 5\, 3:00-4:30pm\, Nye B (T-520)\n	\n	\n		Wednesday\, April 
 11\, 3:00-4:30\, Fainsod Room (L-324)\n	\n\n\n\n	The second session will fea
 ture a talk by Joseph Kim\, “My Life in North Korea: An Account by Joseph 
 Kim.” Mr. Kim's bio is below:\n\n\n\n	Joseph Kim was born in 1990 and grew 
 up during the famine in North Korea. After his father died of starvation\,
  his mother and sister went to China. He was left homeless\, living on the
  streets and having to steal and beg to survive. He eventually escaped to 
 China where he connected with an international NGO called Liberty in North
  Korea (LiNK)\, who helped him on his journey to freedom\, resettling in t
 he United States in 2007 as a refugee.Joseph is a former America Needs You
  Fellow and Council of Korean Americans Fellow. This past summer\, Joseph 
 interned at CSIS Korea Chair under Dr. Victor Cha as a research intern.Tod
 ay he is studying political studies at Bard College and has become an advo
 cate for the North Korean people\, having spoken at TED Global and the UN.
  In 2015\, he published a memoir titled “Under the Same Sky.”\n\n
DTSTART;TZID=America/New_York:20180405T150000
DTEND;TZID=America/New_York:20180405T163000
LAST-MODIFIED:20180316T203221Z
LOCATION:Tabuman 520 (Nye B)\, HKS\, 79 JFK Street\, Cambridge\, MA 02138
SUMMARY:Study Group on North Korean Human Rights - 'My Life in North Korea:
  An Account by Joseph Kim'
URL;TYPE=URI:https://carrcenter.hks.harvard.edu/event/study-group-north-kor
 ean-human-rights-my-life-north-korea-account-joseph-kim
END:VEVENT
END:VCALENDAR
