BEGIN:VCALENDAR
VERSION:2.0
PRODID:-//Drupal: Date iCal//NONSGML kigkonsult.se iCalcreator 2.16.12//
METHOD:PUBLISH
X-WR-CALNAME;VALUE=TEXT:Ical
BEGIN:VTIMEZONE
TZID:America/New_York
BEGIN:STANDARD
DTSTART:20181104T020000
TZOFFSETFROM:-0400
TZOFFSETTO:-0500
TZNAME:EST
END:STANDARD
BEGIN:DAYLIGHT
DTSTART:20190310T020000
TZOFFSETFROM:-0500
TZOFFSETTO:-0400
TZNAME:EDT
END:DAYLIGHT
END:VTIMEZONE
BEGIN:VEVENT
UID:calendar.1117560.field_date.0@carrcenter.hks.harvard.edu
DTSTAMP:20210301T012456Z
DESCRIPTION:\n	Registration is now full. If you are interested in being plac
 ed on our waiting list\, please email carr_center@hks.harvard.edu&nbsp\;\n
 \n\n\n	Download the Agenda.Speakers include:\n\n\n\n	\n		Pascale Dubois\, Inte
 grity Vice President\, World Bank\n	\n	\n		Ray Fisman\, Slater Family Professo
 r in Behavioral Economics\, Boston University\n	\n	\n		Corinna Gilfillan\, Hea
 d of US Office\, Global Witness \n	\n	\n		Siddharth Kara\,&nbsp\; Adjunct Lect
 urer in Public Policy\, HKS\n	\n	\n		Steven Livingston\, Senior Fellow\, Carr 
 Center for Human Rights Policy\, HKS\n	\n	\n		Alberto Mora\, Senior Fellow\, C
 arr Center for Human Rights Policy\, HKS\n	\n	\n		Luis Moreno-Ocampo\, Senior 
 Fellow\, Carr Center for Human Rights Policy\, HKS\n	\n	\n		Sushma Raman\, Exe
 cutive Director\, Carr Center for Human Rights Policy\, HKS \n	\n	\n		Zoe Reit
 er\, Regional Manager Americas\, Transparency International\n	\n	\n		Mathias R
 isse&nbsp\;  Professor of Philosophy and Public Policy  \n	\n	\n		Bo Rothstein
 \, August Röhss Chair in Political Science at University of Gothenburg\, S
 weden\n	\n	\n		Sunita Saligram\, former Lead Director\, PwC's International An
 ti-Corruption and Program Integrity Practice and current MC/MPA student\n	
 \n	\n		Kathryn Sikkink  Ryan Family Professor of Human Rights Policy\, HKS\n	
 \n	\n		Matthew Stephenson  Professor of Law at Harvard Law School\n	\n	\n		Alex W
 hiting  Professor of Practice at Harvard Law School\n	\n	\n		Judge Mark Wolf\,
  Senior Fellow\, Carr Center for Human Rights Policy\, HKS\n	\n\n\n\n	Regist
 ration is now full. If you are interested in being placed on our waiting l
 ist\, please email carr_center@hks.harvard.edu&nbsp\;\n\n
DTSTART;TZID=America/New_York:20180425T083000
DTEND;TZID=America/New_York:20180425T153000
LAST-MODIFIED:20180420T154700Z
LOCATION:Harvard Kennedy School\, Malkin Penthouse (Littauer-P-9)
SUMMARY:Symposium: Corruption and Human Rights - The Linkages\, the Challen
 ges\, and Paths for Progress
URL;TYPE=URI:https://carrcenter.hks.harvard.edu/event/symposium-corruption-
 and-human-rights-linkages-challenges-and-paths-progress
END:VEVENT
END:VCALENDAR
