BEGIN:VCALENDAR
VERSION:2.0
PRODID:-//Drupal: Date iCal//NONSGML kigkonsult.se iCalcreator 2.16.12//
METHOD:PUBLISH
X-WR-CALNAME;VALUE=TEXT:Ical
BEGIN:VTIMEZONE
TZID:America/New_York
BEGIN:STANDARD
DTSTART:20181104T020000
TZOFFSETFROM:-0400
TZOFFSETTO:-0500
TZNAME:EST
END:STANDARD
BEGIN:DAYLIGHT
DTSTART:20180311T020000
TZOFFSETFROM:-0500
TZOFFSETTO:-0400
RDATE:20190310T020000
TZNAME:EDT
END:DAYLIGHT
END:VTIMEZONE
BEGIN:VEVENT
UID:calendar.1116645.field_date.0@carrcenter.hks.harvard.edu
DTSTAMP:20210301T012155Z
DESCRIPTION:\n	The Carr Center is excited to announce its 2018 Speaker Serie
 s:&nbsp\;The Fierce Urgency of Now: Human Rights in 2018.&nbsp\;The series
  will be facilitated by Professor&nbsp\;Mathias Risse.\n\n\n\n	At the 1963 
 March on Washington\, Martin Luther King\, Jr spoke of “the fierce urgency
  of now\,” the need for immediate\, “vigorous and positive action” on civi
 l rights. This year\, the Carr Center will host a series of talks that wil
 l examine the current state of human rights in the country\, and worldwide
 . Please see our calendar for all upcoming dates and times.&nbsp\;\n\n\n\n
 	*Please note\, times/rooms might change.&nbsp\;Always check our calendar&n
 bsp\;for the most up-to-date information!*\n\n\n\n	In the tenth talk of the
  series\, Stephen Rickard\, Director of the Washington Advocacy Program fo
 r Open Society Foundations will give a talk titled Make Me Do the Right Th
 ing: Politicians and Human Rights.\n\n\n\n	Specific information on all upco
 ming events in this&nbsp\;series &nbsp\;can be found here.*A light dinner 
 will be served*\n\n\n\n	&nbsp\;\n\n
DTSTART;TZID=America/New_York:20180409T173000
DTEND;TZID=America/New_York:20180409T184500
LAST-MODIFIED:20180409T133349Z
LOCATION:Rubenstein 414 AB (Democracy Lab)\, Harvard Kennedy School\, 79 JF
 K Street\, Cambridge\, MA
SUMMARY:The Fierce Urgency of Now Speaker Series: Stephen Rickard - Make me
  do the Right Thing: Politicians and Human Rights
URL;TYPE=URI:https://carrcenter.hks.harvard.edu/event/fierce-urgency-now-sp
 eaker-series-stephen-rickard-make-me-do-right-thing-politicians-and
END:VEVENT
END:VCALENDAR
