BEGIN:VCALENDAR
VERSION:2.0
PRODID:-//Drupal: Date iCal//NONSGML kigkonsult.se iCalcreator 2.16.12//
METHOD:PUBLISH
X-WR-CALNAME;VALUE=TEXT:Ical
BEGIN:VTIMEZONE
TZID:America/New_York
BEGIN:STANDARD
DTSTART:20181104T020000
TZOFFSETFROM:-0400
TZOFFSETTO:-0500
TZNAME:EST
END:STANDARD
BEGIN:DAYLIGHT
DTSTART:20190310T020000
TZOFFSETFROM:-0500
TZOFFSETTO:-0400
TZNAME:EDT
END:DAYLIGHT
END:VTIMEZONE
BEGIN:VEVENT
UID:calendar.1115622.field_date.0@carrcenter.hks.harvard.edu
DTSTAMP:20210301T012205Z
DESCRIPTION:\n	The Carr Center is excited to announce its 2018 Speaker Serie
 s:&nbsp\;The Fierce Urgency of Now: Human Rights in 2018.&nbsp\;The series
  will be faciliated by Professor&nbsp\;Mathias Risse.\n\n\n\n	At the 1963 M
 arch on Washington\, Martin Luther King\, Jr spoke of “the fierce urgency 
 of now\,” the need for immediate\, “vigorous and positive action” on civil
  rights. This year\, the Carr Center will host a series of talks that will
  examine the current state of human rights in the country\, and worldwide.
  Please see our calendar for all upcoming dates and times.&nbsp\;\n\n\n\n	*
 Please note\, times/rooms might change.&nbsp\;Always check our calendar&nb
 sp\;for the most up-to-date information!*\n\n\n\n	In the thirteenth talk of
  the series\,&nbsp\; Parker Gilbert Montgomery Professor of the Practice o
 f Religion and Public Life\, J. Bryan Hehir will give a talk titled: The T
 ime of Trump and the Papacy of Francis: Contending Conceptions of Rights\,
  Duties and Relationships\n\n\n\n	Specific information on all upcoming even
 ts in this&nbsp\;series &nbsp\;can be found here.*A light dinner will be s
 erved*\n\n\n\n	&nbsp\;\n\n
DTSTART;TZID=America/New_York:20180416T173000
DTEND;TZID=America/New_York:20180416T184500
LAST-MODIFIED:20180227T170339Z
LOCATION:Wexner 434AB\, Harvard Kennedy School\, 79 JFK Street\, Cambridge\
 , MA
SUMMARY:The Fierce Urgency of Now Speaker Series: J. Bryan Hehir - The Time
  of Trump and the Papacy of Francis: Contending Conceptions of Rights\, Du
 ties and Relationships
URL;TYPE=URI:https://carrcenter.hks.harvard.edu/event/fierce-urgency-now-sp
 eaker-series-j-bryan-hehir-time-trump-and-papacy-francis-contending
END:VEVENT
END:VCALENDAR
