BEGIN:VCALENDAR
VERSION:2.0
PRODID:-//Drupal: Date iCal//NONSGML kigkonsult.se iCalcreator 2.16.12//
METHOD:PUBLISH
X-WR-CALNAME;VALUE=TEXT:Ical
BEGIN:VTIMEZONE
TZID:America/New_York
BEGIN:STANDARD
DTSTART:20181104T020000
TZOFFSETFROM:-0400
TZOFFSETTO:-0500
TZNAME:EST
END:STANDARD
BEGIN:DAYLIGHT
DTSTART:20180311T020000
TZOFFSETFROM:-0500
TZOFFSETTO:-0400
TZNAME:EDT
END:DAYLIGHT
END:VTIMEZONE
BEGIN:VEVENT
UID:calendar.1115424.field_date.0@carrcenter.hks.harvard.edu
DTSTAMP:20210301T012426Z
DESCRIPTION:\n	United States Secretary of Education Betsy DeVos has taken ac
 tions that gut the five-decades-long protections that Title IX has provide
 d to victims of campus sexual assault and other forms of sex-based civil r
 ights harms. A new\, groundbreaking lawsuit aims to rectify this and indee
 d to save Title IX. Join the lawyers and activists behind this lawsuit. Th
 ey will discuss the future of anti-discrimination laws in the context of n
 ew political realities. The panel will be moderated by HKS faculty member\
 , Tim McCarthy\,\n\n\n\n	Panelists:\n\n\n\n	Susan Daria Landino In concert w
 ith her activism assisting dozens of female scholars experiencing gender h
 arassment and retaliation\, Landino has founded Allies Reaching for Equali
 ty to support intersectional populations navigating inequities linked to T
 itle IX non-compliance affecting access to education. She has just receive
 d her first funding and has published an op-ed in the Philadelphia Inquire
 r launching the foundation. Previously she worked in news broadcasting and
  the entertainment industry in Los Angeles.\n\n\n\n	&nbsp\;\n\n\n\n	&nbsp\;
 \n\n\n\n	Heidi Howkins Lockwood\, Ph.D. is an Associate Professor of Philos
 ophy and Acting Director of the Women’s &amp\; Gender Studies Program at S
 CSU. She has worked behind the scenes to support survivors and Title IX ac
 tivists at more than 60 universities over the past eight years.\n\n\n\n	&nb
 sp\;\n\n\n\n	&nbsp\;\n\n\n\n	&nbsp\;\n\n\n\n	Susan Marine\, Ph.D. is Associat
 e Professor and Program Director in the Higher Education Master’s Program 
 at Merrimack College. She has 20 years’ experience leading initiatives in 
 higher education for the advancement of women and trans* students of all g
 enders\, with specific expertise in sexual violence prevention and respons
 e. She was the founding director of the Harvard Office of Sexual Assault P
 revention and Response\, and served on both the board of directors and as 
 a medical advocate at the Boston Area Rape Crisis Center.\n\n\n\n	&nbsp\;\n
 \n\n\n	&nbsp\;\n\n\n\n	Wendy Murphy is an attorney and impact litigator who 
 specializes in constitutional and civil rights for abused women and childr
 en. She is the director of the Women's and Children's Advocacy Project of 
 the Center for Law and Social Responsibility at New England Law-Boston\, w
 here she also teaches a seminar on law reform and sexual violence. She has
  published numerous law review articles on women's and children's rights\,
  including Title IX.\n\n\n\n	&nbsp\;\n\n\n\n	This event is co-sponsored by C
 arr Center and WAPPP (Women and Public Policy Program).\n\n
DTSTART;TZID=America/New_York:20180228T183000
DTEND;TZID=America/New_York:20180228T203000
LAST-MODIFIED:20180223T171353Z
LOCATION:Rubenstein 306\, HKS
SUMMARY:Campus Sexual Assault and Title IX
URL;TYPE=URI:https://carrcenter.hks.harvard.edu/event/future-title-ix-age-t
 rump
END:VEVENT
END:VCALENDAR
