BEGIN:VCALENDAR
VERSION:2.0
PRODID:-//Drupal: Date iCal//NONSGML kigkonsult.se iCalcreator 2.16.12//
METHOD:PUBLISH
X-WR-CALNAME;VALUE=TEXT:Ical
BEGIN:VTIMEZONE
TZID:America/New_York
BEGIN:STANDARD
DTSTART:20181104T020000
TZOFFSETFROM:-0400
TZOFFSETTO:-0500
TZNAME:EST
END:STANDARD
BEGIN:DAYLIGHT
DTSTART:20180311T020000
TZOFFSETFROM:-0500
TZOFFSETTO:-0400
RDATE:20190310T020000
TZNAME:EDT
END:DAYLIGHT
END:VTIMEZONE
BEGIN:VEVENT
UID:calendar.1115412.field_date.0@carrcenter.hks.harvard.edu
DTSTAMP:20210301T012448Z
DESCRIPTION:\n	The Carr Center is excited to announce its 2018 Speaker Serie
 s: The Fierce Urgency of Now: Human Rights in 2018. The series will be fac
 ilitated by Professor Mathias Risse.\n\n\n\n	At the 1963 March on Washingto
 n\, Martin Luther King\, Jr spoke of “the fierce urgency of now\,&nbsp\; '
 the need for immediate\, “vigorous and positive action” on civil rights. T
 his year\, the Carr Center will host a series of talks that will examine t
 he current state of human rights in the country\, and worldwide. Please se
 e our calendar for all upcoming dates and times.\n\n\n\n	*Please note\, tim
 es/rooms might change. Always check our calendar for the most up-to-date i
 nformation!*\n\n\n\n	In the seventh talk of the series\, Professor John Rug
 gie will give a talk titled: Money\, Millennials\, and Human Rights.\n\n\n
 \n	Specific information on all upcoming events in this series&nbsp\; can be
  found here.\n\n\n\n	*A light dinner will be served*\n\n
DTSTART;TZID=America/New_York:20180322T173000
DTEND;TZID=America/New_York:20180322T184500
LAST-MODIFIED:20180227T165247Z
LOCATION:T-520 Allison Dining Room\, Taubman 5th Floor\, HKS\, 79 JFK Stree
 t\, Cambridge\, MA
SUMMARY:The Fierce Urgency of Now Speaker Series: John Ruggie - Money\, Mil
 lennials\, and Human Rights
URL;TYPE=URI:https://carrcenter.hks.harvard.edu/event/fierce-urgency-now-sp
 eaker-series-john-ruggie-money-millennials-and-human-rights
END:VEVENT
END:VCALENDAR
