BEGIN:VCALENDAR
VERSION:2.0
PRODID:-//Drupal: Date iCal//NONSGML kigkonsult.se iCalcreator 2.16.12//
METHOD:PUBLISH
X-WR-CALNAME;VALUE=TEXT:Ical
BEGIN:VTIMEZONE
TZID:America/New_York
BEGIN:STANDARD
DTSTART:20181104T020000
TZOFFSETFROM:-0400
TZOFFSETTO:-0500
TZNAME:EST
END:STANDARD
BEGIN:DAYLIGHT
DTSTART:20180311T020000
TZOFFSETFROM:-0500
TZOFFSETTO:-0400
RDATE:20190310T020000
TZNAME:EDT
END:DAYLIGHT
END:VTIMEZONE
BEGIN:VEVENT
UID:calendar.1115404.field_date.0@carrcenter.hks.harvard.edu
DTSTAMP:20210301T012448Z
DESCRIPTION:\n	The Carr Center is excited to announce its 2018 Speaker Serie
 s: The Fierce Urgency of Now: Human Rights in 2018. The series will be fac
 ilitated by Professor Mathias Risse.\n\n\n\n	At the 1963 March on Washingto
 n\, Martin Luther King\, Jr spoke of “the fierce urgency of now\,” the nee
 d for immediate\, “vigorous and positive action” on civil rights. This yea
 r\, the Carr Center will host a series of talks that will examine the curr
 ent state of human rights in the country\, and worldwide. Please see our c
 alendar for all upcoming dates and times.\n\n\n\n	*Please note\, times/room
 s might change. Always check our calendar for the most up-to-date informat
 ion!*\n\n\n\n	In the sixth talk of the series\, Lecturer Tim McCarthy will 
 give a talk titled: The Paradox of Progress: LGBTQ Human Rights in the 21s
 t Century.\n\n\n\n	Specific information on all upcoming events in this seri
 es&nbsp\; can be found here.\n\n\n\n	*A light dinner will be served*\n\n
DTSTART;TZID=America/New_York:20180328T173000
DTEND;TZID=America/New_York:20180328T184500
LAST-MODIFIED:20180314T160220Z
LOCATION:Wexner 434AB\, Harvard Kennedy School\, 79 JFK Street\, Cambridge\
 , MA
SUMMARY:The Fierce Urgency of Now Speaker Series: Tim McCarthy - The Parado
 x of Progress: LGBTQ Human Rights in the 21st Century
URL;TYPE=URI:https://carrcenter.hks.harvard.edu/event/fierce-urgency-now-sp
 eaker-series-tim-mccarthy-paradox-progress-lgbtq-human-rights-21st
END:VEVENT
END:VCALENDAR
