BEGIN:VCALENDAR
VERSION:2.0
PRODID:-//Drupal: Date iCal//NONSGML kigkonsult.se iCalcreator 2.16.12//
METHOD:PUBLISH
X-WR-CALNAME;VALUE=TEXT:Ical
BEGIN:VTIMEZONE
TZID:America/New_York
BEGIN:STANDARD
DTSTART:20181104T020000
TZOFFSETFROM:-0400
TZOFFSETTO:-0500
TZNAME:EST
END:STANDARD
BEGIN:DAYLIGHT
DTSTART:20180311T020000
TZOFFSETFROM:-0500
TZOFFSETTO:-0400
RDATE:20190310T020000
TZNAME:EDT
END:DAYLIGHT
END:VTIMEZONE
BEGIN:VEVENT
UID:calendar.1115401.field_date.0@carrcenter.hks.harvard.edu
DTSTAMP:20210301T012446Z
DESCRIPTION:\n	Carr Center Senior Fellow Sherman Teichman and Co-Convener Pr
 ofessor Nikos Passas will convene the second semester of their study group
 \, exploring the relationship between corruption and human rights.\n\n\n\n
 	Download the study group brochure here.\n\n\n\n	The objective of this study
  group is to deepen and expand our understanding of the links between corr
 uption and human rights\, to investigate methods exposing corrupt practice
 s\, and to enhance global anti-corruption efforts.\n\n\n\n	The Interface Be
 tween Extractive Industries\, Corruption\, and Human Rights\n\n\n\n	Keith S
 lack is the Director of Extractive Industries Global Program of Oxfam Amer
 ica. He worked previously for the Robert F. Kennedy Memorial Center for Hu
 man Rights in DC and Catholic Relief Services in Peru. He has published ar
 ticles in Ethics and International Affairs\, Human Rights Quarterly and th
 e Los Angeles Times. His work with Oxfam focuses on the “resource curse” a
 nd the lack of financial transparency in oil and mining industries.\n\n
DTSTART;TZID=America/New_York:20180309T120000
DTEND;TZID=America/New_York:20180309T133000
LAST-MODIFIED:20180210T145704Z
LOCATION:T-520 Nye A\, Taubman 5th Floor\, HKS\, 79 JFK Street\, Cambridge\
 , MA
SUMMARY:Study Group: Confronting Corruption in Defense of Human Rights
URL;TYPE=URI:https://carrcenter.hks.harvard.edu/event/study-group-confronti
 ng-corruption-defense-human-rights-1
END:VEVENT
END:VCALENDAR
