BEGIN:VCALENDAR
VERSION:2.0
PRODID:-//Drupal: Date iCal//NONSGML kigkonsult.se iCalcreator 2.16.12//
METHOD:PUBLISH
X-WR-CALNAME;VALUE=TEXT:Ical
BEGIN:VTIMEZONE
TZID:America/New_York
BEGIN:STANDARD
DTSTART:20181104T020000
TZOFFSETFROM:-0400
TZOFFSETTO:-0500
TZNAME:EST
END:STANDARD
BEGIN:DAYLIGHT
DTSTART:20180311T020000
TZOFFSETFROM:-0500
TZOFFSETTO:-0400
TZNAME:EDT
END:DAYLIGHT
END:VTIMEZONE
BEGIN:VEVENT
UID:calendar.1115400.field_date.0@carrcenter.hks.harvard.edu
DTSTAMP:20210301T012442Z
DESCRIPTION:\n	The Carr Center is excited to announce its 2018 Speaker Serie
 s: The Fierce Urgency of Now: Human Rights in 2018. The series will be fac
 ilitated by Professor Mathias Risse.\n\n\n\n	At the 1963 March on Washingto
 n\, Martin Luther King\, Jr spoke of “the fierce urgency of now\,” the nee
 d for immediate\, “vigorous and positive action” on civil rights. This yea
 r\, the Carr Center will host a series of talks that will examine the curr
 ent state of human rights in the country\, and worldwide. Please see our c
 alendar for all upcoming dates and times.\n\n\n\n	*Please note\, times/room
 s might change. Always check our calendar for the most up-to-date informat
 ion!*\n\n\n\n	In the fifth talk of the series\, Executive Director Sushma R
 aman will give a talk titled: Human Rights on the Horizon: What Lies Ahead
  for the Human Rights Movement.\n\n\n\n	Specific information on all upcomin
 g events in this series&nbsp\; can be found here.\n\n\n\n	*A light dinner w
 ill be served*\n\n
DTSTART;TZID=America/New_York:20180305T173000
DTEND;TZID=America/New_York:20180305T184500
LAST-MODIFIED:20180305T141653Z
LOCATION:Wexner 434AB\, Harvard Kennedy School\, 79 JFK Street\, Cambridge\
 , MA
SUMMARY:The Fierce Urgency of Now Speaker Series: Sushma Raman - Human Righ
 ts on the Horizon: What Lies Ahead for the Human Rights Movement 
URL;TYPE=URI:https://carrcenter.hks.harvard.edu/event/fierce-urgency-now-sp
 eaker-series-sushma-raman
END:VEVENT
END:VCALENDAR
