BEGIN:VCALENDAR
VERSION:2.0
PRODID:-//Drupal: Date iCal//NONSGML kigkonsult.se iCalcreator 2.16.12//
METHOD:PUBLISH
X-WR-CALNAME;VALUE=TEXT:Ical
BEGIN:VTIMEZONE
TZID:America/New_York
BEGIN:STANDARD
DTSTART:20181104T020000
TZOFFSETFROM:-0400
TZOFFSETTO:-0500
TZNAME:EST
END:STANDARD
BEGIN:DAYLIGHT
DTSTART:20180311T020000
TZOFFSETFROM:-0500
TZOFFSETTO:-0400
TZNAME:EDT
END:DAYLIGHT
END:VTIMEZONE
BEGIN:VEVENT
UID:calendar.1115244.field_date.0@carrcenter.hks.harvard.edu
DTSTAMP:20210301T012447Z
DESCRIPTION:\n	&nbsp\;Carr Center Senior Fellow Sherman Teichman and Co-Conv
 ener Professor Nikos Passas will convene the second semester of their stud
 y group\, exploring the relationship between corruption and human rights.
 \n\n\n\n	Download the study group brochure here.\n\n\n\n	The objective of th
 is study group is to deepen and expand our understanding of the links betw
 een corruption and human rights\, to investigate methods exposing corrupt 
 practices\, and to enhance global anti-corruption efforts.\n\n\n\n	Corrupti
 on and Crimes Against Humanity\n\n\n\n	Nicole Barrett is the Executive Dire
 ctor of the Allard Prize Initiatives for International Integrity\, and Dir
 ector of the International Justice and Human Rights Clinic at the Allard S
 chool of Law. She was previously a Trial Lawyer and a Legal Officer for th
 e International Criminal Tribunal for the former Yugoslavia in The Hague a
 nd a Senior Scholar in Residence at NYU Law School’s Center for Human Righ
 ts and Global Justice\, where she directed legal projects with internation
 al criminal courts and tribunals. Before moving to Vancouver in 2009\, Nic
 ole served as an international humanitarian law advisor for the defense of
  several Guantanamo detainees and monitored military commissions in Guanta
 namo Bay\, Cuba for Human Rights First.\n\n
DTSTART;TZID=America/New_York:20180220T120000
DTEND;TZID=America/New_York:20180220T133000
LAST-MODIFIED:20180210T144938Z
LOCATION:T-520 Nye A\, Taubman 5th Floor\, HKS\, 79 JFK Street\, Cambridge\
 , MA
SUMMARY:Study Group: Confronting Corruption in Defense of Human Rights
URL;TYPE=URI:https://carrcenter.hks.harvard.edu/event/study-group-confronti
 ng-corruption-defense-human-rights-0
END:VEVENT
END:VCALENDAR
