BEGIN:VCALENDAR
VERSION:2.0
PRODID:-//Drupal: Date iCal//NONSGML kigkonsult.se iCalcreator 2.16.12//
METHOD:PUBLISH
X-WR-CALNAME;VALUE=TEXT:Ical
BEGIN:VTIMEZONE
TZID:America/New_York
BEGIN:STANDARD
DTSTART:20171105T020000
TZOFFSETFROM:-0400
TZOFFSETTO:-0500
TZNAME:EST
END:STANDARD
BEGIN:DAYLIGHT
DTSTART:20180311T020000
TZOFFSETFROM:-0500
TZOFFSETTO:-0400
TZNAME:EDT
END:DAYLIGHT
END:VTIMEZONE
BEGIN:VEVENT
UID:calendar.1062986.field_date.0@carrcenter.hks.harvard.edu
DTSTAMP:20210301T012449Z
DESCRIPTION:\n	Join us for the first installment of the HKS Gender and Secur
 ity Seminar Series\, a discussion with Dr. Andreas Kotsadam\, Senior Resea
 rcher at The Frisch Centre and Affiliated Researcher at the Department of 
 Economics at the University of Oslo.&nbsp\;Light breakfast to be served.\n
 \n\n\n	Dr. Kotsadam's research&nbsp\;examines whether exposure of men to wo
 men in a traditionally male-dominated environment can change gendered atti
 tudes. The context is the military in Norway\, where female recruits were 
 randomly assigned to some squads but not others during boot camp. Findings
  show that living and working with women for 8 weeks caused men to adopt m
 ore egalitarian attitudes. Specifically\, there was a 14 percentage point 
 increase in the fraction of men who think mixed-gender teams perform as we
 ll or better than same-gender teams\, an 8 percentage point increase in me
 n who think household work should be shared equally and a 14 percentage po
 int reduction in men who strongly disavow feminine traits. Contrary to wha
 t many policymakers have predicted\, there is no evidence that integrating
  women into squads hurt male recruits' satisfaction with boot camp or thei
 r plans to continue in the military. These findings demonstrate that even 
 in a highly gender-skewed environment\, gender stereotypes are malleable a
 nd can be altered by integrating members of the opposite sex.\n\n\n\n	&nbsp
 \;\n\n\n\n	About Dr. Andreas Kotsadam\n\n\n\n	Andreas Kotsadam is a Senior R
 esearcher at The Frisch Centre in Oslo.\n\n\n\n	Kotsadam holds a PhD in Eco
 nomics and is a broad social scientist interested in inequality\, economic
  development\, and conflict. He has published extensively in different aca
 demic disciplines\, including The American Journal of Political Science\, 
 Social Forces\, The European Economic Review\, and World Development. You 
 can read more about his research at his homepage:&nbsp\;https://andreaskot
 sadam.wordpress.com/\n\n\n\n	&nbsp\;\n\n\n\n	About the Gender and Security S
 eminar Series\n\n\n\n	The Gender and Security Seminar Series\, coordinated 
 by Dara Kay Cohen\, Associate Professor of Public Policy\, brings leading 
 experts from academia and the policy world\, working at the intersection o
 f gender\, human rights\, and security\, to Harvard Kennedy School. Speake
 rs discuss their research in progress or share their perspectives on curre
 nt policy debates. The seminar series covers issues of national security d
 uring the fall semester and international security during the spring semes
 ter. The series is co-sponsored by four centers at HKS: the Belfer Center 
 for Science and International Affairs\, Ash Center for Democratic Governan
 ce and Innovation\, Carr Center for Human Rights\, and Women and Public Po
 licy Program.\n\n\n\n	&nbsp\;\n\n\n\n	Save the Date! Upcoming Talks in the G
 ender and Security Seminar Series:\n\n\n\n	Former US Secretary of Defense a
 nd Belfer Center Director&nbsp\;Ash Carter--Friday\, October 6Prof. Megan 
 MacKenzie--Wednesday\, November 15\n\n
DTSTART;TZID=America/New_York:20170929T100000
DTEND;TZID=America/New_York:20170929T113000
LAST-MODIFIED:20200211T173029Z
LOCATION:1 Brattle Street\, 3rd Floor Conference Room (Room 350)\, Cambridg
 e\, MA
SUMMARY:Does Integration Change Gender Attitudes? The Effect of Randomly As
 signing Women to Traditionally Male Teams 
URL;TYPE=URI:https://carrcenter.hks.harvard.edu/event/does-integration-chan
 ge-gender-attitudes-effect-randomly-assigning-women-traditionally
END:VEVENT
END:VCALENDAR
